Workbook
Name _1000___2000_Series_End_Caps: #REF!
Name _2P_Pull_Trims: #REF!
Name _316_116_Arm_Options: 'STOCK ITEMS'!$C$269:$C$300
Name _316_116_Miscellaneous_Parts___Accessories: 'STOCK ITEMS'!$C$301:$C$314
Name _416_Door_Closer: 'STOCK ITEMS'!$C$321:$C$350
Name _73_Series___Fixed_Size_Economy_Door_Closers: 'STOCK ITEMS'!$C$227:$C$252
Name arms_116: #REF!
Name Arrow_AR1_keyways: #REF!
Name bb_5: #REF!
Name BB5_4.5_x_4.5_x: 'STOCK ITEMS'!$C$56:$C$85
Name closer_316: #REF!
Name closer_416: #REF!
Name closera_416: #REF!
Name CloserFunctions: #REF!
Name closers_1: #REF!
Name ClosersFunctions: #REF!
Name cores: 'STOCK ITEMS'!#REF!
Name curved: 'STOCK ITEMS'!$C$638:$C$667
Name cyl: 'STOCK ITEMS'!$C$1481:$C$1550
Name Cylinder_Dogging_Kits: #REF!
Name Cylinders___Lock_Accessories: #REF!
Name d_1: 'STOCK ITEMS'!$C$402:$C$436
Name D_2_2: #REF!
Name d_22: 'STOCK ITEMS'!$C$437:$C$468
Name D1_Series_Cylindrical_Deadbolts___Grade_1: #REF!
Name D2_Series_Cylindrical_Deadbolts___Grade_2: #REF!
Name dog: 'STOCK ITEMS'!$C$1355:$C$1374
Name drop_116: #REF!
Name Drop_Plates: 'STOCK ITEMS'!$C$358:$C$394
Name e_1: 'STOCK ITEMS'!$C$1094:$C$1151
Name e_2: 'STOCK ITEMS'!$C$1176:$C$1203
Name ea: 'STOCK ITEMS'!#REF!
Name exitstrikes: 'STOCK ITEMS'!$C$1423:$C$1462
Name exitstrims: 'STOCK ITEMS'!$C$1232:$C$1311
Name flat_goods: #REF!
Name Flat_Goods_and_Accessories: 'STOCK ITEMS'!$C$130:$C$188
Name functions10000: #REF!
Name Heavy_Duty_1000_Series_Exit_Devices___Grade_1: #REF!
Name hinge: #REF!
Name hinge_2: #REF!
Name I_1: #REF!
Name I_Series_Cylindrical_Interconnected_Lever_Locks___Grade_2: 'STOCK ITEMS'!$C$756:$C$758
Name Ic: 'STOCK ITEMS'!#REF!
Name IFunctions: #REF!
Name Interchangable_Core_Products: #REF!
Name Interchangeable_Cores__Keys___Keying: #REF!
Name jump: 'STOCK ITEMS'!#REF!
Name k_2: 'STOCK ITEMS'!$C$902:$C$934
Name K2_Series_Cylindrical_Knob_Lock___Grade_2: #REF!
Name Keys___Keying: #REF!
Name keyway_1: 'STOCK ITEMS'!$C$1554:$C$1608
Name Keyway_2: 'STOCK ITEMS'!$C$1610:$C$1666
Name Keyway_3: 'STOCK ITEMS'!$C$1668:$C$1679
Name kitc: 'STOCK ITEMS'!$C$787:$C$825
Name kitsa1: 'STOCK ITEMS'!$C$827:$C$844
Name kitsa2: 'STOCK ITEMS'!$C$845:$C$862
Name kitssb: 'STOCK ITEMS'!$C$863:$C$899
Name Kwikset_keyways: #REF!
Name L_1: #REF!
Name L_2: #REF!

Sheet STOCK ITEMS
B1: Mesker - 72 Hour List | H1: =SUM(P46:P1727) -> 0 | L1: Jump to Menu
P2: Last Updated: 5 8 2014
J3: Amount | L3: Category
J5: =SUM(P46:P55) -> 0 | L5: =B44 -> 3068 & 3070 CRS DOORS - 18 Ga., Inverted Top, Mesker Locations
J6: =SUM(P59:P63) -> 0 | L6: =B57 -> 3068 GALV DOORS - 18 Ga., Flush Top, Mesker Locations
B7: ***This form must be used for 72 hour shipments | J7: =SUM(P67:P71) -> 0 | L7: =B65 -> 3070 GALV DOORS - 18 Ga., Flush Top, Mesker Locations
J8: =SUM(P75:P76) -> 0 | L8: =B73 -> 3068 DOORS - GALV, 18 GA., Flush Top, Competitors Locations
J9: =SUM(P79:P83) -> 0 | L9: =B77 -> 3070 GALV DOORS - 18 GA., Flush Top, Competitors Locations
B10: ***Frames must be ordered in bundle quantity minimums | J10: =SUM(P87:P129) -> 0 | L10: =B85 -> F SERIES - CRS, 16 Ga., Mesker Locations
J11: =SUM(P133:P144) -> 0 | L11: =B131 -> F SERIES - GALV, 16 Ga., Mesker Locations
J12: =SUM(P148:P150) -> 0 | L12: =B146 -> STICK - CRS, 16 Ga., Mesker Locations
B13: ***Pool truck customers are requested to order frames in layer quantity minimums | J13: =SUM(P154:P155) -> 0 | L13: =B152 -> STICK - GALV, 16 Ga., Mesker Locations
J14: =SUM(P159:P161) -> 0 | L14: =B157 -> MULLION - CRS, 16 Ga., Mesker Locations
J15: =SUM(P165:P165) -> 0 | L15: =B163 -> MULLION - GALV, 16 Ga., Mesker Locations
B16: ***Max 360 frame pieces per order. Max 120 doors. Consult factory on larger orders. | J16: =SUM(P169:P203) -> 0 | L16: =B167 -> FDJ SERIES - CRS, 16 Ga., Mesker Locations
J17: =SUM(P207:P265) -> 0 | L17: =B205 -> DOOR PARTS
J18: =SUM(P269:P338)+SUM(P340:P343) -> 0 | L18: =B267 -> FRAME PARTS
C19: Customer Name: | J19: =P339 -> 0 | L19: GLAZING BEAD
C20: -
C22: Door Multiplier:
C23: 1
C25: Frame Multiplier:
C26: 1
C28: P.O. Number:
C29: -
C31: Ship To:
C32: -
C33: -
C34: -
C36: Phone:
C37: - | J37: =SUM(B46:B83) -> 0 | L37: Door Counter
J38: =SUM(B87:B203) -> 0 | L38: Frame Counter
C39: Rep Initials | J39: =SUM(B207:B343) -> 0 | L39: Part Counter
C40: Cust | J40: =SUM($W$46:$W$343) -> 0 | L40: Total Weight
B44: 3068 & 3070 CRS DOORS - 18 Ga., Inverted Top, Mesker Locations | R44: Multiplier Control
B45: Qty | C45: Pallet | D45: Description | M45: Part # | N45: List | O45: Net | P45: Extended | R45: Standard | S45: Switch | T45: Custom
C46: 20 | D46: N P 418 C4 3068F | M46: N807P1 | N46: 550 | O46: =IF(S46="Custom",N46*T46,N46*R46) -> 550 | P46: =O46*B46 -> 0 | R46: =$C$23 -> 1 | S46: Standard | T46: 1 | V46: 99 | W46: =V46*B46 -> 0
C47: 20 | D47: N P 418 C4 TURTLE 3068F | M47: N807P15 | N47: 550 | O47: =IF(S47="Custom",N47*T47,N47*R47) -> 550 | P47: =O47*B47 -> 0 | R47: =$C$23 -> 1 | S47: Standard | T47: 1 | V47: 99 | W47: =V47*B47 -> 0
C48: 20 | D48: N P 418 MB 3068F | M48: N807P2 | N48: 550 | O48: =IF(S48="Custom",N48*T48,N48*R48) -> 550 | P48: =O48*B48 -> 0 | R48: =$C$23 -> 1 | S48: Standard | T48: 1 | V48: 99 | W48: =V48*B48 -> 0
C49: 20 | D49: N P 418 MBN 3068F | M49: N807P3 | N49: 550 | O49: =IF(S49="Custom",N49*T49,N49*R49) -> 550 | P49: =O49*B49 -> 0 | R49: =$C$23 -> 1 | S49: Standard | T49: 1 | V49: 99 | W49: =V49*B49 -> 0
C50: 20 | D50: N P 418 RP 3068F | M50: N807P4 | N50: 584 | O50: =IF(S50="Custom",N50*T50,N50*R50) -> 584 | P50: =O50*B50 -> 0 | R50: =$C$23 -> 1 | S50: Standard | T50: 1 | V50: 99 | W50: =V50*B50 -> 0
C51: 20 | D51: N P 418 C4 3070F | M51: N833P1 | N51: 572 | O51: =IF(S51="Custom",N51*T51,N51*R51) -> 572 | P51: =O51*B51 -> 0 | R51: =$C$23 -> 1 | S51: Standard | T51: 1 | V51: 104 | W51: =V51*B51 -> 0
C52: 20 | D52: N P 418 C4 TURTLE 3070F | M52: N833P15 | N52: 572 | O52: =IF(S52="Custom",N52*T52,N52*R52) -> 572 | P52: =O52*B52 -> 0 | R52: =$C$23 -> 1 | S52: Standard | T52: 1 | V52: 104 | W52: =V52*B52 -> 0
C53: 20 | D53: N P 418 MB 3070F | M53: N833P2 | N53: 572 | O53: =IF(S53="Custom",N53*T53,N53*R53) -> 572 | P53: =O53*B53 -> 0 | R53: =$C$23 -> 1 | S53: Standard | T53: 1 | V53: 104 | W53: =V53*B53 -> 0
C54: 20 | D54: N P 418 MBN 3070F | M54: N833P3 | N54: 572 | O54: =IF(S54="Custom",N54*T54,N54*R54) -> 572 | P54: =O54*B54 -> 0 | R54: =$C$23 -> 1 | S54: Standard | T54: 1 | V54: 104 | W54: =V54*B54 -> 0
C55: 20 | D55: N P 418 RP 3070F | M55: N833P4 | N55: 606 | O55: =IF(S55="Custom",N55*T55,N55*R55) -> 606 | P55: =O55*B55 -> 0 | R55: =$C$23 -> 1 | S55: Standard | T55: 1 | V55: 104 | W55: =V55*B55 -> 0
B57: 3068 GALV DOORS - 18 Ga., Flush Top, Mesker Locations | R57: Multiplier Control
B58: Qty | C58: Pallet | D58: Description | M58: Part # | N58: List | O58: Net | P58: Extended | R58: Standard | S58: Switch | T58: Custom
C59: 20 | D59: N P Z418 C4 3068F T GALV | M59: NZ807P1MEFT | N59: 686 | O59: =IF(S59="Custom",N59*T59,N59*R59) -> 686 | P59: =O59*B59 -> 0 | R59: =$C$23 -> 1 | S59: Standard | T59: 1 | V59: 99 | W59: =V59*B59 -> 0
C60: 20 | D60: N P Z418 C4 TURTLE 3068F T GALV | M60: NZ807P15MEFT | N60: 686 | O60: =IF(S60="Custom",N60*T60,N60*R60) -> 686 | P60: =O60*B60 -> 0 | R60: =$C$23 -> 1 | S60: Standard | T60: 1 | V60: 99 | W60: =V60*B60 -> 0
C61: 20 | D61: N P Z418 MB 3068F T GALV | M61: NZ807P2MEFT | N61: 686 | O61: =IF(S61="Custom",N61*T61,N61*R61) -> 686 | P61: =O61*B61 -> 0 | R61: =$C$23 -> 1 | S61: Standard | T61: 1 | V61: 99 | W61: =V61*B61 -> 0
C62: 20 | D62: N P Z418 MBN 3068F T GALV | M62: NZ807P3MEFT | N62: 686 | O62: =IF(S62="Custom",N62*T62,N62*R62) -> 686 | P62: =O62*B62 -> 0 | R62: =$C$23 -> 1 | S62: Standard | T62: 1 | V62: 99 | W62: =V62*B62 -> 0
C63: 20 | D63: N P Z418 RP 3068F T GALV | M63: NZ807P4MEFT | N63: 720 | O63: =IF(S63="Custom",N63*T63,N63*R63) -> 720 | P63: =O63*B63 -> 0 | R63: =$C$23 -> 1 | S63: Standard | T63: 1 | V63: 99 | W63: =V63*B63 -> 0
B65: 3070 GALV DOORS - 18 Ga., Flush Top, Mesker Locations | R65: Multiplier Control
B66: Qty | C66: Pallet | D66: Description | M66: Part # | N66: List | O66: Net | P66: Extended | R66: Standard | S66: Switch | T66: Custom
C67: 20 | D67: N P Z418 C4 3070F T GALV | M67: NZ833P1MEFT | N67: 708 | O67: =IF(S67="Custom",N67*T67,N67*R67) -> 708 | P67: =O67*B67 -> 0 | R67: =$C$23 -> 1 | S67: Standard | T67: 1 | V67: 104 | W67: =V67*B67 -> 0
C68: 20 | D68: N P Z418 C4 TURTLE 3070F T GALV | M68: NZ833P15MEFT | N68: 708 | O68: =IF(S68="Custom",N68*T68,N68*R68) -> 708 | P68: =O68*B68 -> 0 | R68: =$C$23 -> 1 | S68: Standard | T68: 1 | V68: 104 | W68: =V68*B68 -> 0
C69: 20 | D69: N P Z418 MB 3070F T GALV | M69: NZ833P2MEFT | N69: 708 | O69: =IF(S69="Custom",N69*T69,N69*R69) -> 708 | P69: =O69*B69 -> 0 | R69: =$C$23 -> 1 | S69: Standard | T69: 1 | V69: 104 | W69: =V69*B69 -> 0
C70: 20 | D70: N P Z418 MBN 3070F T GALV | M70: NZ833P3MEFT | N70: 708 | O70: =IF(S70="Custom",N70*T70,N70*R70) -> 708 | P70: =O70*B70 -> 0 | R70: =$C$23 -> 1 | S70: Standard | T70: 1 | V70: 104 | W70: =V70*B70 -> 0
C71: 20 | D71: N P Z418 RP 3070F T GALV | M71: NZ833P4MEFT | N71: 742 | O71: =IF(S71="Custom",N71*T71,N71*R71) -> 742 | P71: =O71*B71 -> 0 | R71: =$C$23 -> 1 | S71: Standard | T71: 1 | V71: 104 | W71: =V71*B71 -> 0
B73: 3068 DOORS - GALV, 18 GA., Flush Top, Competitors Locations | R73: Multiplier Control
B74: Qty | C74: Pallet | D74: Description | M74: Part # | N74: List | O74: Net | P74: Extended | R74: Standard | S74: Switch | T74: Custom
C75: 20 | D75: N P Z418 C4 3068F T GALV STEELCRAFT | M75: NZ807P1SCFT | N75: 686 | O75: =IF(S75="Custom",N75*T75,N75*R75) -> 686 | P75: =O75*B75 -> 0 | R75: =$C$23 -> 1 | S75: Standard | T75: 1 | V75: 99 | W75: =V75*B75 -> 0
B77: 3070 GALV DOORS - 18 GA., Flush Top, Competitors Locations | R77: Multiplier Control
B78: Qty | C78: Pallet | D78: Description | M78: Part # | N78: List | O78: Net | P78: Extended | R78: Standard | S78: Switch | T78: Custom
C79: 20 | D79: N P Z418 C4 3070F T GALV STEELCRAFT | M79: NZ833P1SCFT | N79: 708 | O79: =IF(S79="Custom",N79*T79,N79*R79) -> 708 | P79: =O79*B79 -> 0 | R79: =$C$23 -> 1 | S79: Standard | T79: 1 | V79: 104 | W79: =V79*B79 -> 0
C80: 20 | D80: N P Z418 MB 3070F T GALV STEELCRAFT | M80: NZ833P2SCFT | N80: 708 | O80: =IF(S80="Custom",N80*T80,N80*R80) -> 708 | P80: =O80*B80 -> 0 | R80: =$C$23 -> 1 | S80: Standard | T80: 1 | V80: 104 | W80: =V80*B80 -> 0
C81: 20 | D81: N P Z418 RP 3070F T GALV STEELCRAFT | M81: NZ833P4SCFT | N81: 742 | O81: =IF(S81="Custom",N81*T81,N81*R81) -> 742 | P81: =O81*B81 -> 0 | R81: =$C$23 -> 1 | S81: Standard | T81: 1 | V81: 104 | W81: =V81*B81 -> 0
C82: 20 | D82: N P Z418 C4 3070F T GALV CECO | M82: NZ833P1CEFT | N82: 708 | O82: =IF(S82="Custom",N82*T82,N82*R82) -> 708 | P82: =O82*B82 -> 0 | R82: =$C$23 -> 1 | S82: Standard | T82: 1 | V82: 104 | W82: =V82*B82 -> 0
C83: 20 | D83: N P Z418 C4 3070F T GALV REPUBLIC | M83: NZ833P1REFT | N83: 708 | O83: =IF(S83="Custom",N83*T83,N83*R83) -> 708 | P83: =O83*B83 -> 0 | R83: =$C$23 -> 1 | S83: Standard | T83: 1 | V83: 104 | W83: =V83*B83 -> 0
B85: F SERIES - CRS, 16 Ga., Mesker Locations | R85: Multiplier Control
B86: Qty | C86: Pallet / Layer / Bundle | D86: Series | E86: Type | F86: Steel | G86: Pocket / Gauge | H86: Depth | I86: Comp. | J86: Size | K86: Hand | L86: Face / Other | M86: Part # | N86: List | O86: Net | P86: Extended | R86: Standard | S86: Switch | T86: Custom
C87: 120 / 24 / 6 | D87: F | E87: - | F87: - | G87: 416 | H87: 5-3/4" | I87: FH | J87: 26 | K87: - | L87: - | M87: F6575A04 | N87: 33 | O87: =IF(S87="Custom",N87*T87,N87*R87) -> 33 | P87: =O87*B87 -> 0 | R87: =$C$26 -> 1 | S87: Standard | T87: 1 | V87: 7.98 | W87: =V87*B87 -> 0
C88: 120 / 24 / 6 | D88: F | E88: - | F88: - | G88: 416 | H88: 5-3/4" | I88: FH | J88: 28 | K88: - | L88: - | M88: F6575A05 | N88: 33 | O88: =IF(S88="Custom",N88*T88,N88*R88) -> 33 | P88: =O88*B88 -> 0 | R88: =$C$26 -> 1 | S88: Standard | T88: 1 | V88: 7.98 | W88: =V88*B88 -> 0
C89: 120 / 24 / 6 | D89: F | E89: - | F89: - | G89: 416 | H89: 5-3/4" | I89: FH | J89: 30 | K89: - | L89: - | M89: F6575A07 | N89: 33 | O89: =IF(S89="Custom",N89*T89,N89*R89) -> 33 | P89: =O89*B89 -> 0 | R89: =$C$26 -> 1 | S89: Standard | T89: 1 | V89: 7.98 | W89: =V89*B89 -> 0
C90: 96 / 16 / 4 | D90: F | E90: - | F90: - | G90: 416 | H90: 5-3/4" | I90: FH | J90: 30 | K90: - | L90: W4F | M90: F6575B07 | N90: 73 | O90: =IF(S90="Custom",N90*T90,N90*R90) -> 73 | P90: =O90*B90 -> 0 | R90: =$C$26 -> 1 | S90: Standard | T90: 1 | V90: =3.5*3 -> 10.5 | W90: =V90*B90 -> 0
C91: 120 / 24 / 6 | D91: F | E91: - | F91: - | G91: 416 | H91: 5-3/4" | I91: FH | J91: 34 | K91: - | L91: - | M91: F6575A09 | N91: 39 | O91: =IF(S91="Custom",N91*T91,N91*R91) -> 39 | P91: =O91*B91 -> 0 | R91: =$C$26 -> 1 | S91: Standard | T91: 1 | V91: 10.64 | W91: =V91*B91 -> 0
C92: 120 / 24 / 6 | D92: F | E92: - | F92: - | G92: 416 | H92: 5-3/4" | I92: FH | J92: 36 | K92: - | L92: - | M92: F6575A10 | N92: 39 | O92: =IF(S92="Custom",N92*T92,N92*R92) -> 39 | P92: =O92*B92 -> 0 | R92: =$C$26 -> 1 | S92: Standard | T92: 1 | V92: 10.64 | W92: =V92*B92 -> 0
C93: 120 / 24 / 6 | D93: F | E93: - | F93: - | G93: 416 | H93: 5-3/4" | I93: FH | J93: 38 | K93: - | L93: - | M93: F6575A11 | N93: 39 | O93: =IF(S93="Custom",N93*T93,N93*R93) -> 39 | P93: =O93*B93 -> 0 | R93: =$C$26 -> 1 | S93: Standard | T93: 1 | V93: 10.64 | W93: =V93*B93 -> 0
C94: 120 / 24 / 6 | D94: F | E94: - | F94: - | G94: 416 | H94: 5-3/4" | I94: FH | J94: 40 | K94: - | L94: - | M94: F6575A13 | N94: 39 | O94: =IF(S94="Custom",N94*T94,N94*R94) -> 39 | P94: =O94*B94 -> 0 | R94: =$C$26 -> 1 | S94: Standard | T94: 1 | V94: 10.64 | W94: =V94*B94 -> 0
C95: 120 / 24 / 6 | D95: F | E95: - | F95: - | G95: 416 | H95: 5-3/4" | I95: FH | J95: 60 | K95: - | L95: - | M95: F6575A19 | N95: 64 | O95: =IF(S95="Custom",N95*T95,N95*R95) -> 64 | P95: =O95*B95 -> 0 | R95: =$C$26 -> 1 | S95: Standard | T95: 1 | V95: 15.96 | W95: =V95*B95 -> 0
C96: 96 / 16 / 4 | D96: F | E96: - | F96: - | G96: 416 | H96: 5-3/4" | I96: FH | J96: 60 | K96: - | L96: W4F | M96: F6575B19 | N96: 115 | O96: =IF(S96="Custom",N96*T96,N96*R96) -> 115 | P96: =O96*B96 -> 0 | R96: =$C$26 -> 1 | S96: Standard | T96: 1 | V96: =3.5*6 -> 21 | W96: =V96*B96 -> 0
C97: 120 / 24 / 6 | D97: F | E97: - | F97: - | G97: 416 | H97: 5-3/4" | I97: HJ | J97: 68 | K97: L | L97: - | M97: F6575H21L | N97: 82 | O97: =IF(S97="Custom",N97*T97,N97*R97) -> 82 | P97: =O97*B97 -> 0 | R97: =$C$26 -> 1 | S97: Standard | T97: 1 | V97: 17.96 | W97: =V97*B97 -> 0
C98: 120 / 24 / 6 | D98: F | E98: - | F98: - | G98: 416 | H98: 5-3/4" | I98: HJ | J98: 68 | K98: R | L98: - | M98: F6575H21R | N98: 82 | O98: =IF(S98="Custom",N98*T98,N98*R98) -> 82 | P98: =O98*B98 -> 0 | R98: =$C$26 -> 1 | S98: Standard | T98: 1 | V98: 17.96 | W98: =V98*B98 -> 0
C99: 120 / 24 / 6 | D99: F | E99: - | F99: - | G99: 416 | H99: 5-3/4" | I99: SJ | J99: 68 | K99: L | L99: - | M99: F6575U21L | N99: 71 | O99: =IF(S99="Custom",N99*T99,N99*R99) -> 71 | P99: =O99*B99 -> 0 | R99: =$C$26 -> 1 | S99: Standard | T99: 1 | V99: 17.96 | W99: =V99*B99 -> 0
C100: 120 / 24 / 6 | D100: F | E100: - | F100: - | G100: 416 | H100: 5-3/4" | I100: SJ | J100: 68 | K100: R | L100: - | M100: F6575U21R | N100: 71 | O100: =IF(S100="Custom",N100*T100,N100*R100) -> 71 | P100: =O100*B100 -> 0 | R100: =$C$26 -> 1 | S100: Standard | T100: 1 | V100: 17.96 | W100: =V100*B100 -> 0
C101: 120 / 24 / 6 | D101: F | E101: - | F101: - | G101: 416 | H101: 5-3/4" | I101: HJ | J101: 70 | K101: L | L101: - | M101: F6575H23L | N101: 87 | O101: =IF(S101="Custom",N101*T101,N101*R101) -> 87 | P101: =O101*B101 -> 0 | R101: =$C$26 -> 1 | S101: Standard | T101: 1 | V101: 18.62 | W101: =V101*B101 -> 0
C102: 120 / 24 / 6 | D102: F | E102: - | F102: - | G102: 416 | H102: 5-3/4" | I102: HJ | J102: 70 | K102: R | L102: - | M102: F6575H23R | N102: 87 | O102: =IF(S102="Custom",N102*T102,N102*R102) -> 87 | P102: =O102*B102 -> 0 | R102: =$C$26 -> 1 | S102: Standard | T102: 1 | V102: 18.62 | W102: =V102*B102 -> 0
C103: 120 / 24 / 6 | D103: F | E103: - | F103: - | G103: 416 | H103: 5-3/4" | I103: SJ | J103: 70 | K103: L | L103: - | M103: F6575U23L | N103: 76 | O103: =IF(S103="Custom",N103*T103,N103*R103) -> 76 | P103: =O103*B103 -> 0 | R103: =$C$26 -> 1 | S103: Standard | T103: 1 | V103: 18.62 | W103: =V103*B103 -> 0
C104: 120 / 24 / 6 | D104: F | E104: - | F104: - | G104: 416 | H104: 5-3/4" | I104: SJ | J104: 70 | K104: R | L104: - | M104: F6575U23R | N104: 76 | O104: =IF(S104="Custom",N104*T104,N104*R104) -> 76 | P104: =O104*B104 -> 0 | R104: =$C$26 -> 1 | S104: Standard | T104: 1 | V104: 18.62 | W104: =V104*B104 -> 0
C105: 120 / 24 / 6 | D105: F | E105: - | F105: - | G105: 416 | H105: 5-3/4" | I105: BJ | J105: 70 | K105: L | L105: - | M105: F6575N23L | N105: 76 | O105: =IF(S105="Custom",N105*T105,N105*R105) -> 76 | P105: =O105*B105 -> 0 | R105: =$C$26 -> 1 | S105: Standard | T105: 1 | V105: 18.62 | W105: =V105*B105 -> 0
C106: 120 / 24 / 6 | D106: F | E106: - | F106: - | G106: 416 | H106: 5-3/4" | I106: BJ | J106: 70 | K106: R | L106: - | M106: F6575N23R | N106: 76 | O106: =IF(S106="Custom",N106*T106,N106*R106) -> 76 | P106: =O106*B106 -> 0 | R106: =$C$26 -> 1 | S106: Standard | T106: 1 | V106: 18.62 | W106: =V106*B106 -> 0
C107: 120 / 24 / 6 | D107: F | E107: - | F107: - | G107: 416 | H107: 5-3/4" | I107: HJ | J107: 80 | K107: L | L107: - | M107: F6575H30L | N107: 108 | O107: =IF(S107="Custom",N107*T107,N107*R107) -> 108 | P107: =O107*B107 -> 0 | R107: =$C$26 -> 1 | S107: Standard | T107: 1 | V107: 21.28 | W107: =V107*B107 -> 0
C108: 120 / 24 / 6 | D108: F | E108: - | F108: - | G108: 416 | H108: 5-3/4" | I108: HJ | J108: 80 | K108: R | L108: - | M108: F6575H30R | N108: 108 | O108: =IF(S108="Custom",N108*T108,N108*R108) -> 108 | P108: =O108*B108 -> 0 | R108: =$C$26 -> 1 | S108: Standard | T108: 1 | V108: 21.28 | W108: =V108*B108 -> 0
... C115: 96 / 24 / 6 | D115: F | E115: - | F115: - | G115: 416 | H115: 8-1/4" | I115: FH | J115: 60 | K115: - | L115: - | M115: F6825A19 | N115: 80 | O115: =IF(S115="Custom",N115*T115,N115*R115) -> 80 | P115: =O115*B115 -> 0 | R115: =$C$26 -> 1 | S115: Standard | T115: 1 | V115: 19.5 | W115: =V115*B115 -> 0
C116: 64 / 16 / 4 | D116: F | E116: - | F116: - | G116: 416 | H116: 8-1/4" | I116: FH | J116: 30 | K116: - | L116: W4F | M116: F6825B07 | N116: 79 | O116: =IF(S116="Custom",N116*T116,N116*R116) -> 79 | P116: =O116*B116 -> 0 | R116: =$C$26 -> 1 | S116: Standard | T116: 1 | V116: =4*3 -> 12 | W116: =V116*B116 -> 0
C117: 56 / 14 / 4 | D117: F | E117: - | F117: - | G117: 416 | H117: 8-1/4" | I117: FH | J117: 60 | K117: - | L117: W4F | M117: F6825B19 | N117: 131 | O117: =IF(S117="Custom",N117*T117,N117*R117) -> 131 | P117: =O117*B117 -> 0 | R117: =$C$26 -> 1 | S117: Standard | T117: 1 | V117: =4*6 -> 24 | W117: =V117*B117 -> 0
C118: 72 / 18 / 6 | D118: F | E118: - | F118: - | G118: 416 | H118: 8-1/4" | I118: HJ | J118: 70 | K118: L | L118: - | M118: F6825H23L | N118: 99 | O118: =IF(S118="Custom",N118*T118,N118*R118) -> 99 | P118: =O118*B118 -> 0 | R118: =$C$26 -> 1 | S118: Standard | T118: 1 | V118: 22.75 | W118: =V118*B118 -> 0
C119: 72 / 18 / 6 | D119: F | E119: - | F119: - | G119: 416 | H119: 8-1/4" | I119: HJ | J119: 70 | K119: R | L119: - | M119: F6825H23R | N119: 99 | O119: =IF(S119="Custom",N119*T119,N119*R119) -> 99 | P119: =O119*B119 -> 0 | R119: =$C$26 -> 1 | S119: Standard | T119: 1 | V119: 22.75 | W119: =V119*B119 -> 0
C120: 72 / 18 / 6 | D120: F | E120: - | F120: - | G120: 416 | H120: 8-1/4" | I120: SJ | J120: 70 | K120: L | L120: - | M120: F6825U23L | N120: 86 | O120: =IF(S120="Custom",N120*T120,N120*R120) -> 86 | P120: =O120*B120 -> 0 | R120: =$C$26 -> 1 | S120: Standard | T120: 1 | V120: 22.75 | W120: =V120*B120 -> 0
...

Sheet BILL OF MATERIALS
A1: Mesker - 72 Hour Form : Bill of Materials | G1: =TODAY() -> 41767
A2: COMPANY: | C2: ='STOCK ITEMS'!C20 -> - | E2: TOTAL: | F2: =SUM(F8:F2003) -> 0 | O2: =NOW() -> 41767.324 | P2: =MINUTE(O2) -> 46 | R2: ="Quote# "&Q6&Q5&Q4&Q3&" "&'STOCK ITEMS'!C40 -> Quote# 140508.7.46 Cust
A3: Ship to: | C3: ='STOCK ITEMS'!C32 -> - | D3: =IF('STOCK ITEMS'!C29="-","-","PO# "&'STOCK ITEMS'!C29) -> - | P3: =HOUR(O2) -> 7 | Q3: ="."&P3&"."&P2 -> .7.46 | R3: =Q6&Q5&Q4&Q3&" "&'STOCK ITEMS'!C40 -> 140508.7.46 Cust
C4: ='STOCK ITEMS'!C33 -> - | D4: =IF(OR('STOCK ITEMS'!C29="",'STOCK ITEMS'!C29="-"),R2,"-") -> Quote# 140508.7.46 Cust | P4: =DAY(O2) -> 8 | Q4: =IF(P4<10,"0"&P4,P4) -> 08
C5: ='STOCK ITEMS'!C34 -> - | E5: ="Doors: "&'STOCK ITEMS'!$J$37 -> Doors: 0 | F5: ="Frames: "&'STOCK ITEMS'!$J$38 -> Frames: 0 | P5: =MONTH(O2) -> 5 | Q5: =IF(P5<10,"0"&P5,P5) -> 05
A6: Phone: | C6: ='STOCK ITEMS'!C37 -> - | E6: =" Weight: "&'STOCK ITEMS'!$J$40 -> Weight: 0 | P6: =YEAR(O2) -> 2014 | Q6: =IF(P6=2012,12,IF(P6=2013,13,IF(P6=2014,14,IF(P6=2015,15,IF(P6=2016,16,"fix date"))))) -> 14
A7: LINE # | B7: QTY | C7: ITEM | D7: MULT. | E7: NET | F7: EXTENDED | O7: yes no
A8: 1 | B8: =VLOOKUP($A8,POOL!$H$2:$Q$974,5,FALSE) -> 0 | C8: =VLOOKUP($A8,POOL!$H$2:$Q$974,6,FALSE) -> - | D8: =VLOOKUP($A8,POOL!$H$2:$Q$974,7,FALSE) -> 0 | E8: =VLOOKUP($A8,POOL!$H$2:$Q$974,3,FALSE) -> 0 | F8: =VLOOKUP($A8,POOL!$H$2:$Q$974,4,FALSE) -> 0 | O8: =IF(B8>0,1,0) -> 0
A9: 2 | B9: =VLOOKUP($A9,POOL!$H$2:$Q$974,5,FALSE) -> 0 | C9: =VLOOKUP($A9,POOL!$H$2:$Q$974,6,FALSE) -> - | D9: =VLOOKUP($A9,POOL!$H$2:$Q$974,7,FALSE) -> 0 | E9: =VLOOKUP($A9,POOL!$H$2:$Q$974,3,FALSE) -> 0 | F9: =VLOOKUP($A9,POOL!$H$2:$Q$974,4,FALSE) -> 0 | O9: =IF(B9>0,1,0) -> 0
A10: 3 | B10: =VLOOKUP($A10,POOL!$H$2:$Q$974,5,FALSE) -> 0 | C10: =VLOOKUP($A10,POOL!$H$2:$Q$974,6,FALSE) -> - | D10: =VLOOKUP($A10,POOL!$H$2:$Q$974,7,FALSE) -> 0 | E10: =VLOOKUP($A10,POOL!$H$2:$Q$974,3,FALSE) -> 0 | F10: =VLOOKUP($A10,POOL!$H$2:$Q$974,4,FALSE) -> 0 | O10: =IF(B10>0,1,0) -> 0
A11: 4 | B11: =VLOOKUP($A11,POOL!$H$2:$Q$974,5,FALSE) -> 0 | C11: =VLOOKUP($A11,POOL!$H$2:$Q$974,6,FALSE) -> - | D11: =VLOOKUP($A11,POOL!$H$2:$Q$974,7,FALSE) -> 0 | E11: =VLOOKUP($A11,POOL!$H$2:$Q$974,3,FALSE) -> 0 | F11: =VLOOKUP($A11,POOL!$H$2:$Q$974,4,FALSE) -> 0 | O11: =IF(B11>0,1,0) -> 0
A12: 5 | B12: =VLOOKUP($A12,POOL!$H$2:$Q$974,5,FALSE) -> 0 | C12: =VLOOKUP($A12,POOL!$H$2:$Q$974,6,FALSE) -> - | D12: =VLOOKUP($A12,POOL!$H$2:$Q$974,7,FALSE) -> 0 | E12: =VLOOKUP($A12,POOL!$H$2:$Q$974,3,FALSE) -> 0 | F12: =VLOOKUP($A12,POOL!$H$2:$Q$974,4,FALSE) -> 0 | O12: =IF(B12>0,1,0) -> 0
A13: 6 | B13: =VLOOKUP($A13,POOL!$H$2:$Q$974,5,FALSE) -> 0 | C13: =VLOOKUP($A13,POOL!$H$2:$Q$974,6,FALSE) -> - | D13: =VLOOKUP($A13,POOL!$H$2:$Q$974,7,FALSE) -> 0 | E13: =VLOOKUP($A13,POOL!$H$2:$Q$974,3,FALSE) -> 0 | F13: =VLOOKUP($A13,POOL!$H$2:$Q$974,4,FALSE) -> 0 | O13: =IF(B13>0,1,0) -> 0
A14: 7 | B14: =VLOOKUP($A14,POOL!$H$2:$Q$974,5,FALSE) -> 0 | C14: =VLOOKUP($A14,POOL!$H$2:$Q$974,6,FALSE) -> - | D14: =VLOOKUP($A14,POOL!$H$2:$Q$974,7,FALSE) -> 0 | E14: =VLOOKUP($A14,POOL!$H$2:$Q$974,3,FALSE) -> 0 | F14: =VLOOKUP($A14,POOL!$H$2:$Q$974,4,FALSE) -> 0 | O14: =IF(B14>0,1,0) -> 0
A15: 8 | B15: =VLOOKUP($A15,POOL!$H$2:$Q$974,5,FALSE) -> 0 | C15: =VLOOKUP($A15,POOL!$H$2:$Q$974,6,FALSE) -> - | D15: =VLOOKUP($A15,POOL!$H$2:$Q$974,7,FALSE) -> 0 | E15: =VLOOKUP($A15,POOL!$H$2:$Q$974,3,FALSE) -> 0 | F15: =VLOOKUP($A15,POOL!$H$2:$Q$974,4,FALSE) -> 0 | O15: =IF(B15>0,1,0) -> 0
A16: 9 | B16: =VLOOKUP($A16,POOL!$H$2:$Q$974,5,FALSE) -> 0 | C16: =VLOOKUP($A16,POOL!$H$2:$Q$974,6,FALSE) -> - | D16: =VLOOKUP($A16,POOL!$H$2:$Q$974,7,FALSE) -> 0 | E16: =VLOOKUP($A16,POOL!$H$2:$Q$974,3,FALSE) -> 0 | F16: =VLOOKUP($A16,POOL!$H$2:$Q$974,4,FALSE) -> 0 | O16: =IF(B16>0,1,0) -> 0
A17: 10 | B17: =VLOOKUP($A17,POOL!$H$2:$Q$974,5,FALSE) -> 0 | C17: =VLOOKUP($A17,POOL!$H$2:$Q$974,6,FALSE) -> - | D17: =VLOOKUP($A17,POOL!$H$2:$Q$974,7,FALSE) -> 0 | E17: =VLOOKUP($A17,POOL!$H$2:$Q$974,3,FALSE) -> 0 | F17: =VLOOKUP($A17,POOL!$H$2:$Q$974,4,FALSE) -> 0 | O17: =IF(B17>0,1,0) -> 0
A18: 11 | B18: =VLOOKUP($A18,POOL!$H$2:$Q$974,5,FALSE) -> 0 | C18: =VLOOKUP($A18,POOL!$H$2:$Q$974,6,FALSE) -> - | D18: =VLOOKUP($A18,POOL!$H$2:$Q$974,7,FALSE) -> 0 | E18: =VLOOKUP($A18,POOL!$H$2:$Q$974,3,FALSE) -> 0 | F18: =VLOOKUP($A18,POOL!$H$2:$Q$974,4,FALSE) -> 0 | O18: =IF(B18>0,1,0) -> 0
A19: 12 | B19: =VLOOKUP($A19,POOL!$H$2:$Q$974,5,FALSE) -> 0 | C19: =VLOOKUP($A19,POOL!$H$2:$Q$974,6,FALSE) -> - | D19: =VLOOKUP($A19,POOL!$H$2:$Q$974,7,FALSE) -> 0 | E19: =VLOOKUP($A19,POOL!$H$2:$Q$974,3,FALSE) -> 0 | F19: =VLOOKUP($A19,POOL!$H$2:$Q$974,4,FALSE) -> 0 | O19: =IF(B19>0,1,0) -> 0
... A966: 959 | B966: =VLOOKUP($A966,POOL!$H$2:$Q$974,5,FALSE) -> 0 | C966: =VLOOKUP($A966,POOL!$H$2:$Q$974,6,FALSE) -> - | D966: =VLOOKUP($A966,POOL!$H$2:$Q$974,7,FALSE) -> 0 | E966: =VLOOKUP($A966,POOL!$H$2:$Q$974,3,FALSE) -> 0 | F966: =VLOOKUP($A966,POOL!$H$2:$Q$974,4,FALSE) -> 0 | O966: =IF(B966>0,1,0) -> 0
A967: x | B967: x | C967: x | D967: X | E967: x | F967: x

Sheet POOL
A1: LINE | B1: BASE ITEM | C1: CODE | D1: ITEM | E1: SORT VAL | F1: FOUND SORT VAL | G1: SORT SUM | H1: RANK | I1: LIST | J1: NET | K1: EXT | L1: QTY | M1: ITEM LINK | N1: MULT
A2: 1 | B2: ='STOCK ITEMS'!D46 -> N P 418 C4 3068F | C2: ="(Part #: "&'STOCK ITEMS'!M46&")" -> (Part #: N807P1) | D2: =IF('STOCK ITEMS'!B46>0,B2&" - "&C2,"-") -> - | E2: 2919000 | F2: =IF(D2="-",0,E2) -> 0 | G2: =F2+A2 -> 1 | H2: =RANK(G2,$G$2:$G$974,0) -> 973 | I2: =IF($D2="-",0,'STOCK ITEMS'!N46) -> 0 | J2: =IF($D2="-",0,'STOCK ITEMS'!O46) -> 0 | K2: =IF($D2="-",0,'STOCK ITEMS'!P46) -> 0 | L2: =IF($D2="-",0,'STOCK ITEMS'!B46) -> 0 | M2: =D2 -> - | N2: =IF(L2<1,0,J2/I2) -> 0
A3: 2 | B3: ='STOCK ITEMS'!D47 -> N P 418 C4 TURTLE 3068F | C3: ="(Part #: "&'STOCK ITEMS'!M47&")" -> (Part #: N807P15) | D3: =IF('STOCK ITEMS'!B47>0,B3&" - "&C3,"-") -> - | E3: 2916000 | F3: =IF(D3="-",0,E3) -> 0 | G3: =F3+A3 -> 2 | H3: =RANK(G3,$G$2:$G$974,0) -> 972 | I3: =IF($D3="-",0,'STOCK ITEMS'!N47) -> 0 | J3: =IF($D3="-",0,'STOCK ITEMS'!O47) -> 0 | K3: =IF($D3="-",0,'STOCK ITEMS'!P47) -> 0 | L3: =IF($D3="-",0,'STOCK ITEMS'!B47) -> 0 | M3: =D3 -> - | N3: =IF(L3<1,0,J3/I3) -> 0
A4: 3 | B4: ='STOCK ITEMS'!D48 -> N P 418 MB 3068F | C4: ="(Part #: "&'STOCK ITEMS'!M48&")" -> (Part #: N807P2) | D4: =IF('STOCK ITEMS'!B48>0,B4&" - "&C4,"-") -> - | E4: 2913000 | F4: =IF(D4="-",0,E4) -> 0 | G4: =F4+A4 -> 3 | H4: =RANK(G4,$G$2:$G$974,0) -> 971 | I4: =IF($D4="-",0,'STOCK ITEMS'!N48) -> 0 | J4: =IF($D4="-",0,'STOCK ITEMS'!O48) -> 0 | K4: =IF($D4="-",0,'STOCK ITEMS'!P48) -> 0 | L4: =IF($D4="-",0,'STOCK ITEMS'!B48) -> 0 | M4: =D4 -> - | N4: =IF(L4<1,0,J4/I4) -> 0
A5: 4 | B5: ='STOCK ITEMS'!D49 -> N P 418 MBN 3068F | C5: ="(Part #: "&'STOCK ITEMS'!M49&")" -> (Part #: N807P3) | D5: =IF('STOCK ITEMS'!B49>0,B5&" - "&C5,"-") -> - | E5: 2910000 | F5: =IF(D5="-",0,E5) -> 0 | G5: =F5+A5 -> 4 | H5: =RANK(G5,$G$2:$G$974,0) -> 970 | I5: =IF($D5="-",0,'STOCK ITEMS'!N49) -> 0 | J5: =IF($D5="-",0,'STOCK ITEMS'!O49) -> 0 | K5: =IF($D5="-",0,'STOCK ITEMS'!P49) -> 0 | L5: =IF($D5="-",0,'STOCK ITEMS'!B49) -> 0 | M5: =D5 -> - | N5: =IF(L5<1,0,J5/I5) -> 0
A6: 5 | B6: ='STOCK ITEMS'!D50 -> N P 418 RP 3068F | C6: ="(Part #: "&'STOCK ITEMS'!M50&")" -> (Part #: N807P4) | D6: =IF('STOCK ITEMS'!B50>0,B6&" - "&C6,"-") -> - | E6: 2907000 | F6: =IF(D6="-",0,E6) -> 0 | G6: =F6+A6 -> 5 | H6: =RANK(G6,$G$2:$G$974,0) -> 969 | I6: =IF($D6="-",0,'STOCK ITEMS'!N50) -> 0 | J6: =IF($D6="-",0,'STOCK ITEMS'!O50) -> 0 | K6: =IF($D6="-",0,'STOCK ITEMS'!P50) -> 0 | L6: =IF($D6="-",0,'STOCK ITEMS'!B50) -> 0 | M6: =D6 -> - | N6: =IF(L6<1,0,J6/I6) -> 0
A7: 6 | B7: ='STOCK ITEMS'!D51 -> N P 418 C4 3070F | C7: ="(Part #: "&'STOCK ITEMS'!M51&")" -> (Part #: N833P1) | D7: =IF('STOCK ITEMS'!B51>0,B7&" - "&C7,"-") -> - | E7: 2904000 | F7: =IF(D7="-",0,E7) -> 0 | G7: =F7+A7 -> 6 | H7: =RANK(G7,$G$2:$G$974,0) -> 968 | I7: =IF($D7="-",0,'STOCK ITEMS'!N51) -> 0 | J7: =IF($D7="-",0,'STOCK ITEMS'!O51) -> 0 | K7: =IF($D7="-",0,'STOCK ITEMS'!P51) -> 0 | L7: =IF($D7="-",0,'STOCK ITEMS'!B51) -> 0 | M7: =D7 -> - | N7: =IF(L7<1,0,J7/I7) -> 0
A8: 7 | B8: ='STOCK ITEMS'!D52 -> N P 418 C4 TURTLE 3070F | C8: ="(Part #: "&'STOCK ITEMS'!M52&")" -> (Part #: N833P15) | D8: =IF('STOCK ITEMS'!B52>0,B8&" - "&C8,"-") -> - | E8: 2901000 | F8: =IF(D8="-",0,E8) -> 0 | G8: =F8+A8 -> 7 | H8: =RANK(G8,$G$2:$G$974,0) -> 967 | I8: =IF($D8="-",0,'STOCK ITEMS'!N52) -> 0 | J8: =IF($D8="-",0,'STOCK ITEMS'!O52) -> 0 | K8: =IF($D8="-",0,'STOCK ITEMS'!P52) -> 0 | L8: =IF($D8="-",0,'STOCK ITEMS'!B52) -> 0 | M8: =D8 -> - | N8: =IF(L8<1,0,J8/I8) -> 0
A9: 8 | B9: ='STOCK ITEMS'!D53 -> N P 418 MB 3070F | C9: ="(Part #: "&'STOCK ITEMS'!M53&")" -> (Part #: N833P2) | D9: =IF('STOCK ITEMS'!B53>0,B9&" - "&C9,"-") -> - | E9: 2898000 | F9: =IF(D9="-",0,E9) -> 0 | G9: =F9+A9 -> 8 | H9: =RANK(G9,$G$2:$G$974,0) -> 966 | I9: =IF($D9="-",0,'STOCK ITEMS'!N53) -> 0 | J9: =IF($D9="-",0,'STOCK ITEMS'!O53) -> 0 | K9: =IF($D9="-",0,'STOCK ITEMS'!P53) -> 0 | L9: =IF($D9="-",0,'STOCK ITEMS'!B53) -> 0 | M9: =D9 -> - | N9: =IF(L9<1,0,J9/I9) -> 0
A10: 9 | B10: ='STOCK ITEMS'!D54 -> N P 418 MBN 3070F | C10: ="(Part #: "&'STOCK ITEMS'!M54&")" -> (Part #: N833P3) | D10: =IF('STOCK ITEMS'!B54>0,B10&" - "&C10,"-") -> - | E10: 2895000 | F10: =IF(D10="-",0,E10) -> 0 | G10: =F10+A10 -> 9 | H10: =RANK(G10,$G$2:$G$974,0) -> 965 | I10: =IF($D10="-",0,'STOCK ITEMS'!N54) -> 0 | J10: =IF($D10="-",0,'STOCK ITEMS'!O54) -> 0 | K10: =IF($D10="-",0,'STOCK ITEMS'!P54) -> 0 | L10: =IF($D10="-",0,'STOCK ITEMS'!B54) -> 0 | M10: =D10 -> - | N10: =IF(L10<1,0,J10/I10) -> 0
A11: 10 | B11: ='STOCK ITEMS'!D55 -> N P 418 RP 3070F | C11: ="(Part #: "&'STOCK ITEMS'!M55&")" -> (Part #: N833P4) | D11: =IF('STOCK ITEMS'!B55>0,B11&" - "&C11,"-") -> - | E11: 2892000 | F11: =IF(D11="-",0,E11) -> 0 | G11: =F11+A11 -> 10 | H11: =RANK(G11,$G$2:$G$974,0) -> 964 | I11: =IF($D11="-",0,'STOCK ITEMS'!N55) -> 0 | J11: =IF($D11="-",0,'STOCK ITEMS'!O55) -> 0 | K11: =IF($D11="-",0,'STOCK ITEMS'!P55) -> 0 | L11: =IF($D11="-",0,'STOCK ITEMS'!B55) -> 0 | M11: =D11 -> - | N11: =IF(L11<1,0,J11/I11) -> 0
A12: 11 | B12: - | C12: - | D12: - | E12: 2889000 | F12: =IF(D12="-",0,E12) -> 0 | G12: =F12+A12 -> 11 | H12: =RANK(G12,$G$2:$G$974,0) -> 963 | I12: =IF($D12="-",0,'STOCK ITEMS'!N56) -> 0 | J12: =IF($D12="-",0,'STOCK ITEMS'!O56) -> 0 | K12: =IF($D12="-",0,'STOCK ITEMS'!P56) -> 0 | L12: =IF($D12="-",0,'STOCK ITEMS'!B56) -> 0 | M12: =D12 -> - | N12: =IF(L12<1,0,J12/I12) -> 0
A13: 12 | B13: - | C13: - | D13: - | E13: 2886000 | F13: =IF(D13="-",0,E13) -> 0 | G13: =F13+A13 -> 12 | H13: =RANK(G13,$G$2:$G$974,0) -> 962 | I13: =IF($D13="-",0,'STOCK ITEMS'!N57) -> 0 | J13: =IF($D13="-",0,'STOCK ITEMS'!O57) -> 0 | K13: =IF($D13="-",0,'STOCK ITEMS'!P57) -> 0 | L13: =IF($D13="-",0,'STOCK ITEMS'!B57) -> 0 | M13: =D13 -> - | N13: =IF(L13<1,0,J13/I13) -> 0
A14: 13 | B14: - | C14: - | D14: - | E14: 2883000 | F14: =IF(D14="-",0,E14) -> 0 | G14: =F14+A14 -> 13 | H14: =RANK(G14,$G$2:$G$974,0) -> 961 | I14: =IF($D14="-",0,'STOCK ITEMS'!N58) -> 0 | J14: =IF($D14="-",0,'STOCK ITEMS'!O58) -> 0 | K14: =IF($D14="-",0,'STOCK ITEMS'!P58) -> 0 | L14: =IF($D14="-",0,'STOCK ITEMS'!B58) -> 0 | M14: =D14 -> - | N14: =IF(L14<1,0,J14/I14) -> 0
A15: 14 | B15: ='STOCK ITEMS'!D59 -> N P Z418 C4 3068F T GALV | C15: ="(Part #: "&'STOCK ITEMS'!M59&")" -> (Part #: NZ807P1MEFT) | D15: =IF('STOCK ITEMS'!B59>0,B15&" - "&C15,"-") -> - | E15: 2880000 | F15: =IF(D15="-",0,E15) -> 0 | G15: =F15+A15 -> 14 | H15: =RANK(G15,$G$2:$G$974,0) -> 960 | I15: =IF($D15="-",0,'STOCK ITEMS'!N59) -> 0 | J15: =IF($D15="-",0,'STOCK ITEMS'!O59) -> 0 | K15: =IF($D15="-",0,'STOCK ITEMS'!P59) -> 0 | L15: =IF($D15="-",0,'STOCK ITEMS'!B59) -> 0 | M15: =D15 -> - | N15: =IF(L15<1,0,J15/I15) -> 0
A16: 15 | B16: ='STOCK ITEMS'!D60 -> N P Z418 C4 TURTLE 3068F T GALV | C16: ="(Part #: "&'STOCK ITEMS'!M60&")" -> (Part #: NZ807P15MEFT) | D16: =IF('STOCK ITEMS'!B60>0,B16&" - "&C16,"-") -> - | E16: 2877000 | F16: =IF(D16="-",0,E16) -> 0 | G16: =F16+A16 -> 15 | H16: =RANK(G16,$G$2:$G$974,0) -> 959 | I16: =IF($D16="-",0,'STOCK ITEMS'!N60) -> 0 | J16: =IF($D16="-",0,'STOCK ITEMS'!O60) -> 0 | K16: =IF($D16="-",0,'STOCK ITEMS'!P60) -> 0 | L16: =IF($D16="-",0,'STOCK ITEMS'!B60) -> 0 | M16: =D16 -> - | N16: =IF(L16<1,0,J16/I16) -> 0
A17: 16 | B17: ='STOCK ITEMS'!D61 -> N P Z418 MB 3068F T GALV | C17: ="(Part #: "&'STOCK ITEMS'!M61&")" -> (Part #: NZ807P2MEFT) | D17: =IF('STOCK ITEMS'!B61>0,B17&" - "&C17,"-") -> - | E17: 2874000 | F17: =IF(D17="-",0,E17) -> 0 | G17: =F17+A17 -> 16 | H17: =RANK(G17,$G$2:$G$974,0) -> 958 | I17: =IF($D17="-",0,'STOCK ITEMS'!N61) -> 0 | J17: =IF($D17="-",0,'STOCK ITEMS'!O61) -> 0 | K17: =IF($D17="-",0,'STOCK ITEMS'!P61) -> 0 | L17: =IF($D17="-",0,'STOCK ITEMS'!B61) -> 0 | M17: =D17 -> - | N17: =IF(L17<1,0,J17/I17) -> 0
A18: 17 | B18: ='STOCK ITEMS'!D62 -> N P Z418 MBN 3068F T GALV | C18: ="(Part #: "&'STOCK ITEMS'!M62&")" -> (Part #: NZ807P3MEFT) | D18: =IF('STOCK ITEMS'!B62>0,B18&" - "&C18,"-") -> - | E18: 2871000 | F18: =IF(D18="-",0,E18) -> 0 | G18: =F18+A18 -> 17 | H18: =RANK(G18,$G$2:$G$974,0) -> 957 | I18: =IF($D18="-",0,'STOCK ITEMS'!N62) -> 0 | J18: =IF($D18="-",0,'STOCK ITEMS'!O62) -> 0 | K18: =IF($D18="-",0,'STOCK ITEMS'!P62) -> 0 | L18: =IF($D18="-",0,'STOCK ITEMS'!B62) -> 0 | M18: =D18 -> - | N18: =IF(L18<1,0,J18/I18) -> 0
A19: 18 | B19: ='STOCK ITEMS'!D63 -> N P Z418 RP 3068F T GALV | C19: ="(Part #: "&'STOCK ITEMS'!M63&")" -> (Part #: NZ807P4MEFT) | D19: =IF('STOCK ITEMS'!B63>0,B19&" - "&C19,"-") -> - | E19: 2868000 | F19: =IF(D19="-",0,E19) -> 0 | G19: =F19+A19 -> 18 | H19: =RANK(G19,$G$2:$G$974,0) -> 956 | I19: =IF($D19="-",0,'STOCK ITEMS'!N63) -> 0 | J19: =IF($D19="-",0,'STOCK ITEMS'!O63) -> 0 | K19: =IF($D19="-",0,'STOCK ITEMS'!P63) -> 0 | L19: =IF($D19="-",0,'STOCK ITEMS'!B63) -> 0 | M19: =D19 -> - | N19: =IF(L19<1,0,J19/I19) -> 0
A20: 19 | B20: - | C20: - | D20: - | E20: 2865000 | F20: =IF(D20="-",0,E20) -> 0 | G20: =F20+A20 -> 19 | H20: =RANK(G20,$G$2:$G$974,0) -> 955 | I20: =IF($D20="-",0,'STOCK ITEMS'!N64) -> 0 | J20: =IF($D20="-",0,'STOCK ITEMS'!O64) -> 0 | K20: =IF($D20="-",0,'STOCK ITEMS'!P64) -> 0 | L20: =IF($D20="-",0,'STOCK ITEMS'!B64) -> 0 | M20: =D20 -> - | N20: =IF(L20<1,0,J20/I20) -> 0
A21: 20 | B21: - | C21: - | D21: - | E21: 2862000 | F21: =IF(D21="-",0,E21) -> 0 | G21: =F21+A21 -> 20 | H21: =RANK(G21,$G$2:$G$974,0) -> 954 | I21: =IF($D21="-",0,'STOCK ITEMS'!N65) -> 0 | J21: =IF($D21="-",0,'STOCK ITEMS'!O65) -> 0 | K21: =IF($D21="-",0,'STOCK ITEMS'!P65) -> 0 | L21: =IF($D21="-",0,'STOCK ITEMS'!B65) -> 0 | M21: =D21 -> - | N21: =IF(L21<1,0,J21/I21) -> 0
A22: 21 | B22: - | C22: - | D22: - | E22: 2859000 | F22: =IF(D22="-",0,E22) -> 0 | G22: =F22+A22 -> 21 | H22: =RANK(G22,$G$2:$G$974,0) -> 953 | I22: =IF($D22="-",0,'STOCK ITEMS'!N66) -> 0 | J22: =IF($D22="-",0,'STOCK ITEMS'!O66) -> 0 | K22: =IF($D22="-",0,'STOCK ITEMS'!P66) -> 0 | L22: =IF($D22="-",0,'STOCK ITEMS'!B66) -> 0 | M22: =D22 -> - | N22: =IF(L22<1,0,J22/I22) -> 0
A23: 22 | B23: ='STOCK ITEMS'!D67 -> N P Z418 C4 3070F T GALV | C23: ="(Part #: "&'STOCK ITEMS'!M67&")" -> (Part #: NZ833P1MEFT) | D23: =IF('STOCK ITEMS'!B67>0,B23&" - "&C23,"-") -> - | E23: 2856000 | F23: =IF(D23="-",0,E23) -> 0 | G23: =F23+A23 -> 22 | H23: =RANK(G23,$G$2:$G$974,0) -> 952 | I23: =IF($D23="-",0,'STOCK ITEMS'!N67) -> 0 | J23: =IF($D23="-",0,'STOCK ITEMS'!O67) -> 0 | K23: =IF($D23="-",0,'STOCK ITEMS'!P67) -> 0 | L23: =IF($D23="-",0,'STOCK ITEMS'!B67) -> 0 | M23: =D23 -> - | N23: =IF(L23<1,0,J23/I23) -> 0
A24: 23 | B24: ='STOCK ITEMS'!D68 -> N P Z418 C4 TURTLE 3070F T GALV | C24: ="(Part #: "&'STOCK ITEMS'!M68&")" -> (Part #: NZ833P15MEFT) | D24: =IF('STOCK ITEMS'!B68>0,B24&" - "&C24,"-") -> - | E24: 2853000 | F24: =IF(D24="-",0,E24) -> 0 | G24: =F24+A24 -> 23 | H24: =RANK(G24,$G$2:$G$974,0) -> 951 | I24: =IF($D24="-",0,'STOCK ITEMS'!N68) -> 0 | J24: =IF($D24="-",0,'STOCK ITEMS'!O68) -> 0 | K24: =IF($D24="-",0,'STOCK ITEMS'!P68) -> 0 | L24: =IF($D24="-",0,'STOCK ITEMS'!B68) -> 0 | M24: =D24 -> - | N24: =IF(L24<1,0,J24/I24) -> 0
A25: 24 | B25: ='STOCK ITEMS'!D69 -> N P Z418 MB 3070F T GALV | C25: ="(Part #: "&'STOCK ITEMS'!M69&")" -> (Part #: NZ833P2MEFT) | D25: =IF('STOCK ITEMS'!B69>0,B25&" - "&C25,"-") -> - | E25: 2850000 | F25: =IF(D25="-",0,E25) -> 0 | G25: =F25+A25 -> 24 | H25: =RANK(G25,$G$2:$G$974,0) -> 950 | I25: =IF($D25="-",0,'STOCK ITEMS'!N69) -> 0 | J25: =IF($D25="-",0,'STOCK ITEMS'!O69) -> 0 | K25: =IF($D25="-",0,'STOCK ITEMS'!P69) -> 0 | L25: =IF($D25="-",0,'STOCK ITEMS'!B69) -> 0 | M25: =D25 -> - | N25: =IF(L25<1,0,J25/I25) -> 0
A26: 25 | B26: ='STOCK ITEMS'!D70 -> N P Z418 MBN 3070F T GALV | C26: ="(Part #: "&'STOCK ITEMS'!M70&")" -> (Part #: NZ833P3MEFT) | D26: =IF('STOCK ITEMS'!B70>0,B26&" - "&C26,"-") -> - | E26: 2847000 | F26: =IF(D26="-",0,E26) -> 0 | G26: =F26+A26 -> 25 | H26: =RANK(G26,$G$2:$G$974,0) -> 949 | I26: =IF($D26="-",0,'STOCK ITEMS'!N70) -> 0 | J26: =IF($D26="-",0,'STOCK ITEMS'!O70) -> 0 | K26: =IF($D26="-",0,'STOCK ITEMS'!P70) -> 0 | L26: =IF($D26="-",0,'STOCK ITEMS'!B70) -> 0 | M26: =D26 -> - | N26: =IF(L26<1,0,J26/I26) -> 0
A27: 26 | B27: ='STOCK ITEMS'!D71 -> N P Z418 RP 3070F T GALV | C27: ="(Part #: "&'STOCK ITEMS'!M71&")" -> (Part #: NZ833P4MEFT) | D27: =IF('STOCK ITEMS'!B71>0,B27&" - "&C27,"-") -> - | E27: 2844000 | F27: =IF(D27="-",0,E27) -> 0 | G27: =F27+A27 -> 26 | H27: =RANK(G27,$G$2:$G$974,0) -> 948 | I27: =IF($D27="-",0,'STOCK ITEMS'!N71) -> 0 | J27: =IF($D27="-",0,'STOCK ITEMS'!O71) -> 0 | K27: =IF($D27="-",0,'STOCK ITEMS'!P71) -> 0 | L27: =IF($D27="-",0,'STOCK ITEMS'!B71) -> 0 | M27: =D27 -> - | N27: =IF(L27<1,0,J27/I27) -> 0
A28: 27 | B28: - | C28: - | D28: - | E28: 2841000 | F28: =IF(D28="-",0,E28) -> 0 | G28: =F28+A28 -> 27 | H28: =RANK(G28,$G$2:$G$974,0) -> 947 | I28: =IF($D28="-",0,'STOCK ITEMS'!N72) -> 0 | J28: =IF($D28="-",0,'STOCK ITEMS'!O72) -> 0 | K28: =IF($D28="-",0,'STOCK ITEMS'!P72) -> 0 | L28: =IF($D28="-",0,'STOCK ITEMS'!B72) -> 0 | M28: =D28 -> - | N28: =IF(L28<1,0,J28/I28) -> 0
A29: 28 | B29: - | C29: - | D29: - | E29: 2838000 | F29: =IF(D29="-",0,E29) -> 0 | G29: =F29+A29 -> 28 | H29: =RANK(G29,$G$2:$G$974,0) -> 946 | I29: =IF($D29="-",0,'STOCK ITEMS'!N73) -> 0 | J29: =IF($D29="-",0,'STOCK ITEMS'!O73) -> 0 | K29: =IF($D29="-",0,'STOCK ITEMS'!P73) -> 0 | L29: =IF($D29="-",0,'STOCK ITEMS'!B73) -> 0 | M29: =D29 -> - | N29: =IF(L29<1,0,J29/I29) -> 0
A30: 29 | B30: - | C30: - | D30: - | E30: 2835000 | F30: =IF(D30="-",0,E30) -> 0 | G30: =F30+A30 -> 29 | H30: =RANK(G30,$G$2:$G$974,0) -> 945 | I30: =IF($D30="-",0,'STOCK ITEMS'!N74) -> 0 | J30: =IF($D30="-",0,'STOCK ITEMS'!O74) -> 0 | K30: =IF($D30="-",0,'STOCK ITEMS'!P74) -> 0 | L30: =IF($D30="-",0,'STOCK ITEMS'!B74) -> 0 | M30: =D30 -> - | N30: =IF(L30<1,0,J30/I30) -> 0
A31: 30 | B31: ='STOCK ITEMS'!D75 -> N P Z418 C4 3068F T GALV STEELCRAFT | C31: ="(Part #: "&'STOCK ITEMS'!M75&")" -> (Part #: NZ807P1SCFT) | D31: =IF('STOCK ITEMS'!B75>0,B31&" - "&C31,"-") -> - | E31: 2832000 | F31: =IF(D31="-",0,E31) -> 0 | G31: =F31+A31 -> 30 | H31: =RANK(G31,$G$2:$G$974,0) -> 944 | I31: =IF($D31="-",0,'STOCK ITEMS'!N75) -> 0 | J31: =IF($D31="-",0,'STOCK ITEMS'!O75) -> 0 | K31: =IF($D31="-",0,'STOCK ITEMS'!P75) -> 0 | L31: =IF($D31="-",0,'STOCK ITEMS'!B75) -> 0 | M31: =D31 -> - | N31: =IF(L31<1,0,J31/I31) -> 0
A32: 31 | B32: - | C32: - | D32: - | E32: 2829000 | F32: =IF(D32="-",0,E32) -> 0 | G32: =F32+A32 -> 31 | H32: =RANK(G32,$G$2:$G$974,0) -> 943 | I32: =IF($D32="-",0,'STOCK ITEMS'!N76) -> 0 | J32: =IF($D32="-",0,'STOCK ITEMS'!O76) -> 0 | K32: =IF($D32="-",0,'STOCK ITEMS'!P76) -> 0 | L32: =IF($D32="-",0,'STOCK ITEMS'!B76) -> 0 | M32: =D32 -> - | N32: =IF(L32<1,0,J32/I32) -> 0
A33: 32 | B33: - | C33: - | D33: - | E33: 2826000 | F33: =IF(D33="-",0,E33) -> 0 | G33: =F33+A33 -> 32 | H33: =RANK(G33,$G$2:$G$974,0) -> 942 | I33: =IF($D33="-",0,'STOCK ITEMS'!N77) -> 0 | J33: =IF($D33="-",0,'STOCK ITEMS'!O77) -> 0 | K33: =IF($D33="-",0,'STOCK ITEMS'!P77) -> 0 | L33: =IF($D33="-",0,'STOCK ITEMS'!B77) -> 0 | M33: =D33 -> - | N33: =IF(L33<1,0,J33/I33) -> 0
A34: 33 | B34: - | C34: - | D34: - | E34: 2823000 | F34: =IF(D34="-",0,E34) -> 0 | G34: =F34+A34 -> 33 | H34: =RANK(G34,$G$2:$G$974,0) -> 941 | I34: =IF($D34="-",0,'STOCK ITEMS'!N78) -> 0 | J34: =IF($D34="-",0,'STOCK ITEMS'!O78) -> 0 | K34: =IF($D34="-",0,'STOCK ITEMS'!P78) -> 0 | L34: =IF($D34="-",0,'STOCK ITEMS'!B78) -> 0 | M34: =D34 -> - | N34: =IF(L34<1,0,J34/I34) -> 0
A35: 34 | B35: ='STOCK ITEMS'!D79 -> N P Z418 C4 3070F T GALV STEELCRAFT | C35: ="(Part #: "&'STOCK ITEMS'!M79&")" -> (Part #: NZ833P1SCFT) | D35: =IF('STOCK ITEMS'!B79>0,B35&" - "&C35,"-") -> - | E35: 2820000 | F35: =IF(D35="-",0,E35) -> 0 | G35: =F35+A35 -> 34 | H35: =RANK(G35,$G$2:$G$974,0) -> 940 | I35: =IF($D35="-",0,'STOCK ITEMS'!N79) -> 0 | J35: =IF($D35="-",0,'STOCK ITEMS'!O79) -> 0 | K35: =IF($D35="-",0,'STOCK ITEMS'!P79) -> 0 | L35: =IF($D35="-",0,'STOCK ITEMS'!B79) -> 0 | M35: =D35 -> - | N35: =IF(L35<1,0,J35/I35) -> 0
A36: 35 | B36: ='STOCK ITEMS'!D80 -> N P Z418 MB 3070F T GALV STEELCRAFT | C36: ="(Part #: "&'STOCK ITEMS'!M80&")" -> (Part #: NZ833P2SCFT) | D36: =IF('STOCK ITEMS'!B80>0,B36&" - "&C36,"-") -> - | E36: 2817000 | F36: =IF(D36="-",0,E36) -> 0 | G36: =F36+A36 -> 35 | H36: =RANK(G36,$G$2:$G$974,0) -> 939 | I36: =IF($D36="-",0,'STOCK ITEMS'!N80) -> 0 | J36: =IF($D36="-",0,'STOCK ITEMS'!O80) -> 0 | K36: =IF($D36="-",0,'STOCK ITEMS'!P80) -> 0 | L36: =IF($D36="-",0,'STOCK ITEMS'!B80) -> 0 | M36: =D36 -> - | N36: =IF(L36<1,0,J36/I36) -> 0
A37: 36 | B37: ='STOCK ITEMS'!D81 -> N P Z418 RP 3070F T GALV STEELCRAFT | C37: ="(Part #: "&'STOCK ITEMS'!M81&")" -> (Part #: NZ833P4SCFT) | D37: =IF('STOCK ITEMS'!B81>0,B37&" - "&C37,"-") -> - | E37: 2814000 | F37: =IF(D37="-",0,E37) -> 0 | G37: =F37+A37 -> 36 | H37: =RANK(G37,$G$2:$G$974,0) -> 938 | I37: =IF($D37="-",0,'STOCK ITEMS'!N81) -> 0 | J37: =IF($D37="-",0,'STOCK ITEMS'!O81) -> 0 | K37: =IF($D37="-",0,'STOCK ITEMS'!P81) -> 0 | L37: =IF($D37="-",0,'STOCK ITEMS'!B81) -> 0 | M37: =D37 -> - | N37: =IF(L37<1,0,J37/I37) -> 0
A38: 37 | B38: ='STOCK ITEMS'!D82 -> N P Z418 C4 3070F T GALV CECO | C38: ="(Part #: "&'STOCK ITEMS'!M82&")" -> (Part #: NZ833P1CEFT) | D38: =IF('STOCK ITEMS'!B82>0,B38&" - "&C38,"-") -> - | E38: 2811000 | F38: =IF(D38="-",0,E38) -> 0 | G38: =F38+A38 -> 37 | H38: =RANK(G38,$G$2:$G$974,0) -> 937 | I38: =IF($D38="-",0,'STOCK ITEMS'!N82) -> 0 | J38: =IF($D38="-",0,'STOCK ITEMS'!O82) -> 0 | K38: =IF($D38="-",0,'STOCK ITEMS'!P82) -> 0 | L38: =IF($D38="-",0,'STOCK ITEMS'!B82) -> 0 | M38: =D38 -> - | N38: =IF(L38<1,0,J38/I38) -> 0
A39: 38 | B39: ='STOCK ITEMS'!D83 -> N P Z418 C4 3070F T GALV REPUBLIC | C39: ="(Part #: "&'STOCK ITEMS'!M83&")" -> (Part #: NZ833P1REFT) | D39: =IF('STOCK ITEMS'!B83>0,B39&" - "&C39,"-") -> - | E39: 2808000 | F39: =IF(D39="-",0,E39) -> 0 | G39: =F39+A39 -> 38 | H39: =RANK(G39,$G$2:$G$974,0) -> 936 | I39: =IF($D39="-",0,'STOCK ITEMS'!N83) -> 0 | J39: =IF($D39="-",0,'STOCK ITEMS'!O83) -> 0 | K39: =IF($D39="-",0,'STOCK ITEMS'!P83) -> 0 | L39: =IF($D39="-",0,'STOCK ITEMS'!B83) -> 0 | M39: =D39 -> - | N39: =IF(L39<1,0,J39/I39) -> 0
A40: 39 | B40: - | C40: - | D40: - | E40: 2805000 | F40: =IF(D40="-",0,E40) -> 0 | G40: =F40+A40 -> 39 | H40: =RANK(G40,$G$2:$G$974,0) -> 935 | I40: =IF($D40="-",0,'STOCK ITEMS'!N84) -> 0 | J40: =IF($D40="-",0,'STOCK ITEMS'!O84) -> 0 | K40: =IF($D40="-",0,'STOCK ITEMS'!P84) -> 0 | L40: =IF($D40="-",0,'STOCK ITEMS'!B84) -> 0 | M40: =D40 -> - | N40: =IF(L40<1,0,J40/I40) -> 0
A41: 40 | B41: - | C41: - | D41: - | E41: 2802000 | F41: =IF(D41="-",0,E41) -> 0 | G41: =F41+A41 -> 40 | H41: =RANK(G41,$G$2:$G$974,0) -> 934 | I41: =IF($D41="-",0,'STOCK ITEMS'!N85) -> 0 | J41: =IF($D41="-",0,'STOCK ITEMS'!O85) -> 0 | K41: =IF($D41="-",0,'STOCK ITEMS'!P85) -> 0 | L41: =IF($D41="-",0,'STOCK ITEMS'!B85) -> 0 | M41: =D41 -> - | N41: =IF(L41<1,0,J41/I41) -> 0
A42: 41 | B42: - | C42: - | D42: - | E42: 2799000 | F42: =IF(D42="-",0,E42) -> 0 | G42: =F42+A42 -> 41 | H42: =RANK(G42,$G$2:$G$974,0) -> 933 | I42: =IF($D42="-",0,'STOCK ITEMS'!N86) -> 0 | J42: =IF($D42="-",0,'STOCK ITEMS'!O86) -> 0 | K42: =IF($D42="-",0,'STOCK ITEMS'!P86) -> 0 | L42: =IF($D42="-",0,'STOCK ITEMS'!B86) -> 0 | M42: =D42 -> - | N42: =IF(L42<1,0,J42/I42) -> 0
A43: 42 | B43: ='STOCK ITEMS'!D87&IF('STOCK ITEMS'!E87="-","",'STOCK ITEMS'!E87)&" "&IF('STOCK ITEMS'!F87="-","",'STOCK ITEMS'!F87)&" "&'STOCK ITEMS'!G87&" "&'STOCK ITEMS'!H87&" "&'STOCK ITEMS'!I87&" "&'STOCK ITEMS'!J87&IF('STOCK ITEMS'!K87="-","",'STOCK ITEMS'!K87)&" "&IF('STOCK ITEMS'!L87="-","",'STOCK ITEMS'!L87) -> F 416 5-3/4" FH 26 | C43: ="(Part #: "&'STOCK ITEMS'!M87&")" -> (Part #: F6575A04) | D43: =IF('STOCK ITEMS'!B87>0,B43&" - "&C43,"-") -> - | E43: 2796000 | F43: =IF(D43="-",0,E43) -> 0 | G43: =F43+A43 -> 42 | H43: =RANK(G43,$G$2:$G$974,0) -> 932 | I43: =IF($D43="-",0,'STOCK ITEMS'!N87) -> 0 | J43: =IF($D43="-",0,'STOCK ITEMS'!O87) -> 0 | K43: =IF($D43="-",0,'STOCK ITEMS'!P87) -> 0 | L43: =IF($D43="-",0,'STOCK ITEMS'!B87) -> 0 | M43: =D43 -> - | N43: =IF(L43<1,0,J43/I43) -> 0
A44: 43 | B44: ='STOCK ITEMS'!D88&IF('STOCK ITEMS'!E88="-","",'STOCK ITEMS'!E88)&" "&IF('STOCK ITEMS'!F88="-","",'STOCK ITEMS'!F88)&" "&'STOCK ITEMS'!G88&" "&'STOCK ITEMS'!H88&" "&'STOCK ITEMS'!I88&" "&'STOCK ITEMS'!J88&IF('STOCK ITEMS'!K88="-","",'STOCK ITEMS'!K88)&" "&IF('STOCK ITEMS'!L88="-","",'STOCK ITEMS'!L88) -> F 416 5-3/4" FH 28 | C44: ="(Part #: "&'STOCK ITEMS'!M88&")" -> (Part #: F6575A05) | D44: =IF('STOCK ITEMS'!B88>0,B44&" - "&C44,"-") -> - | E44: 2793000 | F44: =IF(D44="-",0,E44) -> 0 | G44: =F44+A44 -> 43 | H44: =RANK(G44,$G$2:$G$974,0) -> 931 | I44: =IF($D44="-",0,'STOCK ITEMS'!N88) -> 0 | J44: =IF($D44="-",0,'STOCK ITEMS'!O88) -> 0 | K44: =IF($D44="-",0,'STOCK ITEMS'!P88) -> 0 | L44: =IF($D44="-",0,'STOCK ITEMS'!B88) -> 0 | M44: =D44 -> - | N44: =IF(L44<1,0,J44/I44) -> 0
A45: 44 | B45: ='STOCK ITEMS'!D89&IF('STOCK ITEMS'!E89="-","",'STOCK ITEMS'!E89)&" "&IF('STOCK ITEMS'!F89="-","",'STOCK ITEMS'!F89)&" "&'STOCK ITEMS'!G89&" "&'STOCK ITEMS'!H89&" "&'STOCK ITEMS'!I89&" "&'STOCK ITEMS'!J89&IF('STOCK ITEMS'!K89="-","",'STOCK ITEMS'!K89)&" "&IF('STOCK ITEMS'!L89="-","",'STOCK ITEMS'!L89) -> F 416 5-3/4" FH 30 | C45: ="(Part #: "&'STOCK ITEMS'!M89&")" -> (Part #: F6575A07) | D45: =IF('STOCK ITEMS'!B89>0,B45&" - "&C45,"-") -> - | E45: 2790000 | F45: =IF(D45="-",0,E45) -> 0 | G45: =F45+A45 -> 44 | H45: =RANK(G45,$G$2:$G$974,0) -> 930 | I45: =IF($D45="-",0,'STOCK ITEMS'!N89) -> 0 | J45: =IF($D45="-",0,'STOCK ITEMS'!O89) -> 0 | K45: =IF($D45="-",0,'STOCK ITEMS'!P89) -> 0 | L45: =IF($D45="-",0,'STOCK ITEMS'!B89) -> 0 | M45: =D45 -> - | N45: =IF(L45<1,0,J45/I45) -> 0
A46: 45 | B46: ='STOCK ITEMS'!D90&IF('STOCK ITEMS'!E90="-","",'STOCK ITEMS'!E90)&" "&IF('STOCK ITEMS'!F90="-","",'STOCK ITEMS'!F90)&" "&'STOCK ITEMS'!G90&" "&'STOCK ITEMS'!H90&" "&'STOCK ITEMS'!I90&" "&'STOCK ITEMS'!J90&IF('STOCK ITEMS'!K90="-","",'STOCK ITEMS'!K90)&" "&IF('STOCK ITEMS'!L90="-","",'STOCK ITEMS'!L90) -> F 416 5-3/4" FH 30 W4F | C46: ="(Part #: "&'STOCK ITEMS'!M90&")" -> (Part #: F6575B07) | D46: =IF('STOCK ITEMS'!B90>0,B46&" - "&C46,"-") -> - | E46: 2787000 | F46: =IF(D46="-",0,E46) -> 0 | G46: =F46+A46 -> 45 | H46: =RANK(G46,$G$2:$G$974,0) -> 929 | I46: =IF($D46="-",0,'STOCK ITEMS'!N90) -> 0 | J46: =IF($D46="-",0,'STOCK ITEMS'!O90) -> 0 | K46: =IF($D46="-",0,'STOCK ITEMS'!P90) -> 0 | L46: =IF($D46="-",0,'STOCK ITEMS'!B90) -> 0 | M46: =D46 -> - | N46: =IF(L46<1,0,J46/I46) -> 0
A47: 46 | B47: ='STOCK ITEMS'!D91&IF('STOCK ITEMS'!E91="-","",'STOCK ITEMS'!E91)&" "&IF('STOCK ITEMS'!F91="-","",'STOCK ITEMS'!F91)&" "&'STOCK ITEMS'!G91&" "&'STOCK ITEMS'!H91&" "&'STOCK ITEMS'!I91&" "&'STOCK ITEMS'!J91&IF('STOCK ITEMS'!K91="-","",'STOCK ITEMS'!K91)&" "&IF('STOCK ITEMS'!L91="-","",'STOCK ITEMS'!L91) -> F 416 5-3/4" FH 34 | C47: ="(Part #: "&'STOCK ITEMS'!M91&")" -> (Part #: F6575A09) | D47: =IF('STOCK ITEMS'!B91>0,B47&" - "&C47,"-") -> - | E47: 2784000 | F47: =IF(D47="-",0,E47) -> 0 | G47: =F47+A47 -> 46 | H47: =RANK(G47,$G$2:$G$974,0) -> 928 | I47: =IF($D47="-",0,'STOCK ITEMS'!N91) -> 0 | J47: =IF($D47="-",0,'STOCK ITEMS'!O91) -> 0 | K47: =IF($D47="-",0,'STOCK ITEMS'!P91) -> 0 | L47: =IF($D47="-",0,'STOCK ITEMS'!B91) -> 0 | M47: =D47 -> - | N47: =IF(L47<1,0,J47/I47) -> 0
A48: 47 | B48: ='STOCK ITEMS'!D92&IF('STOCK ITEMS'!E92="-","",'STOCK ITEMS'!E92)&" "&IF('STOCK ITEMS'!F92="-","",'STOCK ITEMS'!F92)&" "&'STOCK ITEMS'!G92&" "&'STOCK ITEMS'!H92&" "&'STOCK ITEMS'!I92&" "&'STOCK ITEMS'!J92&IF('STOCK ITEMS'!K92="-","",'STOCK ITEMS'!K92)&" "&IF('STOCK ITEMS'!L92="-","",'STOCK ITEMS'!L92) -> F 416 5-3/4" FH 36 | C48: ="(Part #: "&'STOCK ITEMS'!M92&")" -> (Part #: F6575A10) | D48: =IF('STOCK ITEMS'!B92>0,B48&" - "&C48,"-") -> - | E48: 2781000 | F48: =IF(D48="-",0,E48) -> 0 | G48: =F48+A48 -> 47 | H48: =RANK(G48,$G$2:$G$974,0) -> 927 | I48: =IF($D48="-",0,'STOCK ITEMS'!N92) -> 0 | J48: =IF($D48="-",0,'STOCK ITEMS'!O92) -> 0 | K48: =IF($D48="-",0,'STOCK ITEMS'!P92) -> 0 | L48: =IF($D48="-",0,'STOCK ITEMS'!B92) -> 0 | M48: =D48 -> - | N48: =IF(L48<1,0,J48/I48) -> 0
A49: 48 | B49: ='STOCK ITEMS'!D93&IF('STOCK ITEMS'!E93="-","",'STOCK ITEMS'!E93)&" "&IF('STOCK ITEMS'!F93="-","",'STOCK ITEMS'!F93)&" "&'STOCK ITEMS'!G93&" "&'STOCK ITEMS'!H93&" "&'STOCK ITEMS'!I93&" "&'STOCK ITEMS'!J93&IF('STOCK ITEMS'!K93="-","",'STOCK ITEMS'!K93)&" "&IF('STOCK ITEMS'!L93="-","",'STOCK ITEMS'!L93) -> F 416 5-3/4" FH 38 | C49: ="(Part #: "&'STOCK ITEMS'!M93&")" -> (Part #: F6575A11) | D49: =IF('STOCK ITEMS'!B93>0,B49&" - "&C49,"-") -> - | E49: 2778000 | F49: =IF(D49="-",0,E49) -> 0 | G49: =F49+A49 -> 48 | H49: =RANK(G49,$G$2:$G$974,0) -> 926 | I49: =IF($D49="-",0,'STOCK ITEMS'!N93) -> 0 | J49: =IF($D49="-",0,'STOCK ITEMS'!O93) -> 0 | K49: =IF($D49="-",0,'STOCK ITEMS'!P93) -> 0 | L49: =IF($D49="-",0,'STOCK ITEMS'!B93) -> 0 | M49: =D49 -> - | N49: =IF(L49<1,0,J49/I49) -> 0
A50: 49 | B50: ='STOCK ITEMS'!D94&IF('STOCK ITEMS'!E94="-","",'STOCK ITEMS'!E94)&" "&IF('STOCK ITEMS'!F94="-","",'STOCK ITEMS'!F94)&" "&'STOCK ITEMS'!G94&" "&'STOCK ITEMS'!H94&" "&'STOCK ITEMS'!I94&" "&'STOCK ITEMS'!J94&IF('STOCK ITEMS'!K94="-","",'STOCK ITEMS'!K94)&" "&IF('STOCK ITEMS'!L94="-","",'STOCK ITEMS'!L94) -> F 416 5-3/4" FH 40 | C50: ="(Part #: "&'STOCK ITEMS'!M94&")" -> (Part #: F6575A13) | D50: =IF('STOCK ITEMS'!B94>0,B50&" - "&C50,"-") -> - | E50: 2775000 | F50: =IF(D50="-",0,E50) -> 0 | G50: =F50+A50 -> 49 | H50: =RANK(G50,$G$2:$G$974,0) -> 925 | I50: =IF($D50="-",0,'STOCK ITEMS'!N94) -> 0 | J50: =IF($D50="-",0,'STOCK ITEMS'!O94) -> 0 | K50: =IF($D50="-",0,'STOCK ITEMS'!P94) -> 0 | L50: =IF($D50="-",0,'STOCK ITEMS'!B94) -> 0 | M50: =D50 -> - | N50: =IF(L50<1,0,J50/I50) -> 0
A51: 50 | B51: ='STOCK ITEMS'!D95&IF('STOCK ITEMS'!E95="-","",'STOCK ITEMS'!E95)&" "&IF('STOCK ITEMS'!F95="-","",'STOCK ITEMS'!F95)&" "&'STOCK ITEMS'!G95&" "&'STOCK ITEMS'!H95&" "&'STOCK ITEMS'!I95&" "&'STOCK ITEMS'!J95&IF('STOCK ITEMS'!K95="-","",'STOCK ITEMS'!K95)&" "&IF('STOCK ITEMS'!L95="-","",'STOCK ITEMS'!L95) -> F 416 5-3/4" FH 60 | C51: ="(Part #: "&'STOCK ITEMS'!M95&")" -> (Part #: F6575A19) | D51: =IF('STOCK ITEMS'!B95>0,B51&" - "&C51,"-") -> - | E51: 2772000 | F51: =IF(D51="-",0,E51) -> 0 | G51: =F51+A51 -> 50 | H51: =RANK(G51,$G$2:$G$974,0) -> 924 | I51: =IF($D51="-",0,'STOCK ITEMS'!N95) -> 0 | J51: =IF($D51="-",0,'STOCK ITEMS'!O95) -> 0 | K51: =IF($D51="-",0,'STOCK ITEMS'!P95) -> 0 | L51: =IF($D51="-",0,'STOCK ITEMS'!B95) -> 0 | M51: =D51 -> - | N51: =IF(L51<1,0,J51/I51) -> 0
A52: 51 | B52: ='STOCK ITEMS'!D96&IF('STOCK ITEMS'!E96="-","",'STOCK ITEMS'!E96)&" "&IF('STOCK ITEMS'!F96="-","",'STOCK ITEMS'!F96)&" "&'STOCK ITEMS'!G96&" "&'STOCK ITEMS'!H96&" "&'STOCK ITEMS'!I96&" "&'STOCK ITEMS'!J96&IF('STOCK ITEMS'!K96="-","",'STOCK ITEMS'!K96)&" "&IF('STOCK ITEMS'!L96="-","",'STOCK ITEMS'!L96) -> F 416 5-3/4" FH 60 W4F | C52: ="(Part #: "&'STOCK ITEMS'!M96&")" -> (Part #: F6575B19) | D52: =IF('STOCK ITEMS'!B96>0,B52&" - "&C52,"-") -> - | E52: 2769000 | F52: =IF(D52="-",0,E52) -> 0 | G52: =F52+A52 -> 51 | H52: =RANK(G52,$G$2:$G$974,0) -> 923 | I52: =IF($D52="-",0,'STOCK ITEMS'!N96) -> 0 | J52: =IF($D52="-",0,'STOCK ITEMS'!O96) -> 0 | K52: =IF($D52="-",0,'STOCK ITEMS'!P96) -> 0 | L52: =IF($D52="-",0,'STOCK ITEMS'!B96) -> 0 | M52: =D52 -> - | N52: =IF(L52<1,0,J52/I52) -> 0
A53: 52 | B53: ='STOCK ITEMS'!D97&IF('STOCK ITEMS'!E97="-","",'STOCK ITEMS'!E97)&" "&IF('STOCK ITEMS'!F97="-","",'STOCK ITEMS'!F97)&" "&'STOCK ITEMS'!G97&" "&'STOCK ITEMS'!H97&" "&'STOCK ITEMS'!I97&" "&'STOCK ITEMS'!J97&IF('STOCK ITEMS'!K97="-","",'STOCK ITEMS'!K97)&" "&IF('STOCK ITEMS'!L97="-","",'STOCK ITEMS'!L97) -> F 416 5-3/4" HJ 68L | C53: ="(Part #: "&'STOCK ITEMS'!M97&")" -> (Part #: F6575H21L) | D53: =IF('STOCK ITEMS'!B97>0,B53&" - "&C53,"-") -> - | E53: 2766000 | F53: =IF(D53="-",0,E53) -> 0 | G53: =F53+A53 -> 52 | H53: =RANK(G53,$G$2:$G$974,0) -> 922 | I53: =IF($D53="-",0,'STOCK ITEMS'!N97) -> 0 | J53: =IF($D53="-",0,'STOCK ITEMS'!O97) -> 0 | K53: =IF($D53="-",0,'STOCK ITEMS'!P97) -> 0 | L53: =IF($D53="-",0,'STOCK ITEMS'!B97) -> 0 | M53: =D53 -> - | N53: =IF(L53<1,0,J53/I53) -> 0
A54: 53 | B54: ='STOCK ITEMS'!D98&IF('STOCK ITEMS'!E98="-","",'STOCK ITEMS'!E98)&" "&IF('STOCK ITEMS'!F98="-","",'STOCK ITEMS'!F98)&" "&'STOCK ITEMS'!G98&" "&'STOCK ITEMS'!H98&" "&'STOCK ITEMS'!I98&" "&'STOCK ITEMS'!J98&IF('STOCK ITEMS'!K98="-","",'STOCK ITEMS'!K98)&" "&IF('STOCK ITEMS'!L98="-","",'STOCK ITEMS'!L98) -> F 416 5-3/4" HJ 68R | C54: ="(Part #: "&'STOCK ITEMS'!M98&")" -> (Part #: F6575H21R) | D54: =IF('STOCK ITEMS'!B98>0,B54&" - "&C54,"-") -> - | E54: 2763000 | F54: =IF(D54="-",0,E54) -> 0 | G54: =F54+A54 -> 53 | H54: =RANK(G54,$G$2:$G$974,0) -> 921 | I54: =IF($D54="-",0,'STOCK ITEMS'!N98) -> 0 | J54: =IF($D54="-",0,'STOCK ITEMS'!O98) -> 0 | K54: =IF($D54="-",0,'STOCK ITEMS'!P98) -> 0 | L54: =IF($D54="-",0,'STOCK ITEMS'!B98) -> 0 | M54: =D54 -> - | N54: =IF(L54<1,0,J54/I54) -> 0
... A85: 84 | B85: ='STOCK ITEMS'!D129&IF('STOCK ITEMS'!E129="-","",'STOCK ITEMS'!E129)&" "&IF('STOCK ITEMS'!F129="-","",'STOCK ITEMS'!F129)&" "&'STOCK ITEMS'!G129&" "&'STOCK ITEMS'!H129&" "&'STOCK ITEMS'!I129&" "&'STOCK ITEMS'!J129&IF('STOCK ITEMS'!K129="-","",'STOCK ITEMS'!K129)&" "&IF('STOCK ITEMS'!L129="-","",'STOCK ITEMS'!L129) -> F 416 8-3/4" SJ 70R | C85: ="(Part #: "&'STOCK ITEMS'!M129&")" -> (Part #: F6875U23R) | D85: =IF('STOCK ITEMS'!B129>0,B85&" - "&C85,"-") -> - | E85: 2670000 | F85: =IF(D85="-",0,E85) -> 0 | G85: =F85+A85 -> 84 | H85: =RANK(G85,$G$2:$G$974,0) -> 890 | I85: =IF($D85="-",0,'STOCK ITEMS'!N129) -> 0 | J85: =IF($D85="-",0,'STOCK ITEMS'!O129) -> 0 | K85: =IF($D85="-",0,'STOCK ITEMS'!P129) -> 0 | L85: =IF($D85="-",0,'STOCK ITEMS'!B129) -> 0 | M85: =D85 -> - | N85: =IF(L85<1,0,J85/I85) -> 0
A86: 85 | B86: - | C86: - | D86: - | E86: 2667000 | F86: =IF(D86="-",0,E86) -> 0 | G86: =F86+A86 -> 85 | H86: =RANK(G86,$G$2:$G$974,0) -> 889 | I86: =IF($D86="-",0,'STOCK ITEMS'!N130) -> 0 | J86: =IF($D86="-",0,'STOCK ITEMS'!O130) -> 0 | K86: =IF($D86="-",0,'STOCK ITEMS'!P130) -> 0 | L86: =IF($D86="-",0,'STOCK ITEMS'!B130) -> 0 | M86: =D86 -> - | N86: =IF(L86<1,0,J86/I86) -> 0
A87: 86 | B87: - | C87: - | D87: - | E87: 2664000 | F87: =IF(D87="-",0,E87) -> 0 | G87: =F87+A87 -> 86 | H87: =RANK(G87,$G$2:$G$974,0) -> 888 | I87: =IF($D87="-",0,'STOCK ITEMS'!N131) -> 0 | J87: =IF($D87="-",0,'STOCK ITEMS'!O131) -> 0 | K87: =IF($D87="-",0,'STOCK ITEMS'!P131) -> 0 | L87: =IF($D87="-",0,'STOCK ITEMS'!B131) -> 0 | M87: =D87 -> - | N87: =IF(L87<1,0,J87/I87) -> 0
A88: 87 | B88: - | C88: - | D88: - | E88: 2661000 | F88: =IF(D88="-",0,E88) -> 0 | G88: =F88+A88 -> 87 | H88: =RANK(G88,$G$2:$G$974,0) -> 887 | I88: =IF($D88="-",0,'STOCK ITEMS'!N132) -> 0 | J88: =IF($D88="-",0,'STOCK ITEMS'!O132) -> 0 | K88: =IF($D88="-",0,'STOCK ITEMS'!P132) -> 0 | L88: =IF($D88="-",0,'STOCK ITEMS'!B132) -> 0 | M88: =D88 -> - | N88: =IF(L88<1,0,J88/I88) -> 0
A89: 88 | B89: ='STOCK ITEMS'!D133&IF('STOCK ITEMS'!E133="-","",'STOCK ITEMS'!E133)&" "&IF('STOCK ITEMS'!F133="-","",'STOCK ITEMS'!F133)&" "&'STOCK ITEMS'!G133&" "&'STOCK ITEMS'!H133&" "&'STOCK ITEMS'!I133&" "&'STOCK ITEMS'!J133&IF('STOCK ITEMS'!K133="-","",'STOCK ITEMS'!K133)&" "&IF('STOCK ITEMS'!L133="-","",'STOCK ITEMS'!L133) -> F Z 416 5-3/4" FH 30 | C89: ="(Part #: "&'STOCK ITEMS'!M133&")" -> (Part #: FZ6575A07) | D89: =IF('STOCK ITEMS'!B133>0,B89&" - "&C89,"-") -> - | E89: 2658000 | F89: =IF(D89="-",0,E89) -> 0 | G89: =F89+A89 -> 88 | H89: =RANK(G89,$G$2:$G$974,0) -> 886 | I89: =IF($D89="-",0,'STOCK ITEMS'!N133) -> 0 | J89: =IF($D89="-",0,'STOCK ITEMS'!O133) -> 0 | K89: =IF($D89="-",0,'STOCK ITEMS'!P133) -> 0 | L89: =IF($D89="-",0,'STOCK ITEMS'!B133) -> 0 | M89: =D89 -> - | N89: =IF(L89<1,0,J89/I89) -> 0
A90: 89 | B90: ='STOCK ITEMS'!D134&IF('STOCK ITEMS'!E134="-","",'STOCK ITEMS'!E134)&" "&IF('STOCK ITEMS'!F134="-","",'STOCK ITEMS'!F134)&" "&'STOCK ITEMS'!G134&" "&'STOCK ITEMS'!H134&" "&'STOCK ITEMS'!I134&" "&'STOCK ITEMS'!J134&IF('STOCK ITEMS'!K134="-","",'STOCK ITEMS'!K134)&" "&IF('STOCK ITEMS'!L134="-","",'STOCK ITEMS'!L134) -> F Z 416 5-3/4" FH 30 W4F | C90: ="(Part #: "&'STOCK ITEMS'!M134&")" -> (Part #: FZ6575B07) | D90: =IF('STOCK ITEMS'!B134>0,B90&" - "&C90,"-") -> - | E90: 2655000 | F90: =IF(D90="-",0,E90) -> 0 | G90: =F90+A90 -> 89 | H90: =RANK(G90,$G$2:$G$974,0) -> 885 | I90: =IF($D90="-",0,'STOCK ITEMS'!N134) -> 0 | J90: =IF($D90="-",0,'STOCK ITEMS'!O134) -> 0 | K90: =IF($D90="-",0,'STOCK ITEMS'!P134) -> 0 | L90: =IF($D90="-",0,'STOCK ITEMS'!B134) -> 0 | M90: =D90 -> - | N90: =IF(L90<1,0,J90/I90) -> 0
A91: 90 | B91: ='STOCK ITEMS'!D135&IF('STOCK ITEMS'!E135="-","",'STOCK ITEMS'!E135)&" "&IF('STOCK ITEMS'!F135="-","",'STOCK ITEMS'!F135)&" "&'STOCK ITEMS'!G135&" "&'STOCK ITEMS'!H135&" "&'STOCK ITEMS'!I135&" "&'STOCK ITEMS'!J135&IF('STOCK ITEMS'!K135="-","",'STOCK ITEMS'!K135)&" "&IF('STOCK ITEMS'!L135="-","",'STOCK ITEMS'!L135) -> F Z 416 5-3/4" FH 60 | C91: ="(Part #: "&'STOCK ITEMS'!M135&")" -> (Part #: FZ6575A19) | D91: =IF('STOCK ITEMS'!B135>0,B91&" - "&C91,"-") -> - | E91: 2652000 | F91: =IF(D91="-",0,E91) -> 0 | G91: =F91+A91 -> 90 | H91: =RANK(G91,$G$2:$G$974,0) -> 884 | I91: =IF($D91="-",0,'STOCK ITEMS'!N135) -> 0 | J91: =IF($D91="-",0,'STOCK ITEMS'!O135) -> 0 | K91: =IF($D91="-",0,'STOCK ITEMS'!P135) -> 0 | L91: =IF($D91="-",0,'STOCK ITEMS'!B135) -> 0 | M91: =D91 -> - | N91: =IF(L91<1,0,J91/I91) -> 0
A92: 91 | B92: ='STOCK ITEMS'!D136&IF('STOCK ITEMS'!E136="-","",'STOCK ITEMS'!E136)&" "&IF('STOCK ITEMS'!F136="-","",'STOCK ITEMS'!F136)&" "&'STOCK ITEMS'!G136&" "&'STOCK ITEMS'!H136&" "&'STOCK ITEMS'!I136&" "&'STOCK ITEMS'!J136&IF('STOCK ITEMS'!K136="-","",'STOCK ITEMS'!K136)&" "&IF('STOCK ITEMS'!L136="-","",'STOCK ITEMS'!L136) -> F Z 416 5-3/4" FH 60 W4F | C92: ="(Part #: "&'STOCK ITEMS'!M136&")" -> (Part #: FZ6575B19) | D92: =IF('STOCK ITEMS'!B136>0,B92&" - "&C92,"-") -> - | E92: 2649000 | F92: =IF(D92="-",0,E92) -> 0 | G92: =F92+A92 -> 91 | H92: =RANK(G92,$G$2:$G$974,0) -> 883 | I92: =IF($D92="-",0,'STOCK ITEMS'!N136) -> 0 | J92: =IF($D92="-",0,'STOCK ITEMS'!O136) -> 0 | K92: =IF($D92="-",0,'STOCK ITEMS'!P136) -> 0 | L92: =IF($D92="-",0,'STOCK ITEMS'!B136) -> 0 | M92: =D92 -> - | N92: =IF(L92<1,0,J92/I92) -> 0
A93: 92 | B93: ='STOCK ITEMS'!D137&IF('STOCK ITEMS'!E137="-","",'STOCK ITEMS'!E137)&" "&IF('STOCK ITEMS'!F137="-","",'STOCK ITEMS'!F137)&" "&'STOCK ITEMS'!G137&" "&'STOCK ITEMS'!H137&" "&'STOCK ITEMS'!I137&" "&'STOCK ITEMS'!J137&IF('STOCK ITEMS'!K137="-","",'STOCK ITEMS'!K137)&" "&IF('STOCK ITEMS'!L137="-","",'STOCK ITEMS'!L137) -> F Z 416 5-3/4" HJ 68L | C93: ="(Part #: "&'STOCK ITEMS'!M137&")" -> (Part #: FZ6575H21L) | D93: =IF('STOCK ITEMS'!B137>0,B93&" - "&C93,"-") -> - | E93: 2646000 | F93: =IF(D93="-",0,E93) -> 0 | G93: =F93+A93 -> 92 | H93: =RANK(G93,$G$2:$G$974,0) -> 882 | I93: =IF($D93="-",0,'STOCK ITEMS'!N137) -> 0 | J93: =IF($D93="-",0,'STOCK ITEMS'!O137) -> 0 | K93: =IF($D93="-",0,'STOCK ITEMS'!P137) -> 0 | L93: =IF($D93="-",0,'STOCK ITEMS'!B137) -> 0 | M93: =D93 -> - | N93: =IF(L93<1,0,J93/I93) -> 0
A94: 93 | B94: ='STOCK ITEMS'!D138&IF('STOCK ITEMS'!E138="-","",'STOCK ITEMS'!E138)&" "&IF('STOCK ITEMS'!F138="-","",'STOCK ITEMS'!F138)&" "&'STOCK ITEMS'!G138&" "&'STOCK ITEMS'!H138&" "&'STOCK ITEMS'!I138&" "&'STOCK ITEMS'!J138&IF('STOCK ITEMS'!K138="-","",'STOCK ITEMS'!K138)&" "&IF('STOCK ITEMS'!L138="-","",'STOCK ITEMS'!L138) -> F Z 416 5-3/4" HJ 68R | C94: ="(Part #: "&'STOCK ITEMS'!M138&")" -> (Part #: FZ6575H21R) | D94: =IF('STOCK ITEMS'!B138>0,B94&" - "&C94,"-") -> - | E94: 2643000 | F94: =IF(D94="-",0,E94) -> 0 | G94: =F94+A94 -> 93 | H94: =RANK(G94,$G$2:$G$974,0) -> 881 | I94: =IF($D94="-",0,'STOCK ITEMS'!N138) -> 0 | J94: =IF($D94="-",0,'STOCK ITEMS'!O138) -> 0 | K94: =IF($D94="-",0,'STOCK ITEMS'!P138) -> 0 | L94: =IF($D94="-",0,'STOCK ITEMS'!B138) -> 0 | M94: =D94 -> - | N94: =IF(L94<1,0,J94/I94) -> 0
A95: 94 | B95: ='STOCK ITEMS'!D139&IF('STOCK ITEMS'!E139="-","",'STOCK ITEMS'!E139)&" "&IF('STOCK ITEMS'!F139="-","",'STOCK ITEMS'!F139)&" "&'STOCK ITEMS'!G139&" "&'STOCK ITEMS'!H139&" "&'STOCK ITEMS'!I139&" "&'STOCK ITEMS'!J139&IF('STOCK ITEMS'!K139="-","",'STOCK ITEMS'!K139)&" "&IF('STOCK ITEMS'!L139="-","",'STOCK ITEMS'!L139) -> F Z 416 5-3/4" SJ 68L | C95: ="(Part #: "&'STOCK ITEMS'!M139&")" -> (Part #: FZ6575U21L) | D95: =IF('STOCK ITEMS'!B139>0,B95&" - "&C95,"-") -> - | E95: 2640000 | F95: =IF(D95="-",0,E95) -> 0 | G95: =F95+A95 -> 94 | H95: =RANK(G95,$G$2:$G$974,0) -> 880 | I95: =IF($D95="-",0,'STOCK ITEMS'!N139) -> 0 | J95: =IF($D95="-",0,'STOCK ITEMS'!O139) -> 0 | K95: =IF($D95="-",0,'STOCK ITEMS'!P139) -> 0 | L95: =IF($D95="-",0,'STOCK ITEMS'!B139) -> 0 | M95: =D95 -> - | N95: =IF(L95<1,0,J95/I95) -> 0
A96: 95 | B96: ='STOCK ITEMS'!D140&IF('STOCK ITEMS'!E140="-","",'STOCK ITEMS'!E140)&" "&IF('STOCK ITEMS'!F140="-","",'STOCK ITEMS'!F140)&" "&'STOCK ITEMS'!G140&" "&'STOCK ITEMS'!H140&" "&'STOCK ITEMS'!I140&" "&'STOCK ITEMS'!J140&IF('STOCK ITEMS'!K140="-","",'STOCK ITEMS'!K140)&" "&IF('STOCK ITEMS'!L140="-","",'STOCK ITEMS'!L140) -> F Z 416 5-3/4" SJ 68R | C96: ="(Part #: "&'STOCK ITEMS'!M140&")" -> (Part #: FZ6575U21R) | D96: =IF('STOCK ITEMS'!B140>0,B96&" - "&C96,"-") -> - | E96: 2637000 | F96: =IF(D96="-",0,E96) -> 0 | G96: =F96+A96 -> 95 | H96: =RANK(G96,$G$2:$G$974,0) -> 879 | I96: =IF($D96="-",0,'STOCK ITEMS'!N140) -> 0 | J96: =IF($D96="-",0,'STOCK ITEMS'!O140) -> 0 | K96: =IF($D96="-",0,'STOCK ITEMS'!P140) -> 0 | L96: =IF($D96="-",0,'STOCK ITEMS'!B140) -> 0 | M96: =D96 -> - | N96: =IF(L96<1,0,J96/I96) -> 0
A97: 96 | B97: ='STOCK ITEMS'!D141&IF('STOCK ITEMS'!E141="-","",'STOCK ITEMS'!E141)&" "&IF('STOCK ITEMS'!F141="-","",'STOCK ITEMS'!F141)&" "&'STOCK ITEMS'!G141&" "&'STOCK ITEMS'!H141&" "&'STOCK ITEMS'!I141&" "&'STOCK ITEMS'!J141&IF('STOCK ITEMS'!K141="-","",'STOCK ITEMS'!K141)&" "&IF('STOCK ITEMS'!L141="-","",'STOCK ITEMS'!L141) -> F Z 416 5-3/4" HJ 70L | C97: ="(Part #: "&'STOCK ITEMS'!M141&")" -> (Part #: FZ6575H23L) | D97: =IF('STOCK ITEMS'!B141>0,B97&" - "&C97,"-") -> - | E97: 2634000 | F97: =IF(D97="-",0,E97) -> 0 | G97: =F97+A97 -> 96 | H97: =RANK(G97,$G$2:$G$974,0) -> 878 | I97: =IF($D97="-",0,'STOCK ITEMS'!N141) -> 0 | J97: =IF($D97="-",0,'STOCK ITEMS'!O141) -> 0 | K97: =IF($D97="-",0,'STOCK ITEMS'!P141) -> 0 | L97: =IF($D97="-",0,'STOCK ITEMS'!B141) -> 0 | M97: =D97 -> - | N97: =IF(L97<1,0,J97/I97) -> 0
A98: 97 | B98: ='STOCK ITEMS'!D142&IF('STOCK ITEMS'!E142="-","",'STOCK ITEMS'!E142)&" "&IF('STOCK ITEMS'!F142="-","",'STOCK ITEMS'!F142)&" "&'STOCK ITEMS'!G142&" "&'STOCK ITEMS'!H142&" "&'STOCK ITEMS'!I142&" "&'STOCK ITEMS'!J142&IF('STOCK ITEMS'!K142="-","",'STOCK ITEMS'!K142)&" "&IF('STOCK ITEMS'!L142="-","",'STOCK ITEMS'!L142) -> F Z 416 5-3/4" HJ 70R | C98: ="(Part #: "&'STOCK ITEMS'!M142&")" -> (Part #: FZ6575H23R) | D98: =IF('STOCK ITEMS'!B142>0,B98&" - "&C98,"-") -> - | E98: 2631000 | F98: =IF(D98="-",0,E98) -> 0 | G98: =F98+A98 -> 97 | H98: =RANK(G98,$G$2:$G$974,0) -> 877 | I98: =IF($D98="-",0,'STOCK ITEMS'!N142) -> 0 | J98: =IF($D98="-",0,'STOCK ITEMS'!O142) -> 0 | K98: =IF($D98="-",0,'STOCK ITEMS'!P142) -> 0 | L98: =IF($D98="-",0,'STOCK ITEMS'!B142) -> 0 | M98: =D98 -> - | N98: =IF(L98<1,0,J98/I98) -> 0
A99: 98 | B99: ='STOCK ITEMS'!D143&IF('STOCK ITEMS'!E143="-","",'STOCK ITEMS'!E143)&" "&IF('STOCK ITEMS'!F143="-","",'STOCK ITEMS'!F143)&" "&'STOCK ITEMS'!G143&" "&'STOCK ITEMS'!H143&" "&'STOCK ITEMS'!I143&" "&'STOCK ITEMS'!J143&IF('STOCK ITEMS'!K143="-","",'STOCK ITEMS'!K143)&" "&IF('STOCK ITEMS'!L143="-","",'STOCK ITEMS'!L143) -> F Z 416 5-3/4" SJ 70L | C99: ="(Part #: "&'STOCK ITEMS'!M143&")" -> (Part #: FZ6575U23L) | D99: =IF('STOCK ITEMS'!B143>0,B99&" - "&C99,"-") -> - | E99: 2628000 | F99: =IF(D99="-",0,E99) -> 0 | G99: =F99+A99 -> 98 | H99: =RANK(G99,$G$2:$G$974,0) -> 876 | I99: =IF($D99="-",0,'STOCK ITEMS'!N143) -> 0 | J99: =IF($D99="-",0,'STOCK ITEMS'!O143) -> 0 | K99: =IF($D99="-",0,'STOCK ITEMS'!P143) -> 0 | L99: =IF($D99="-",0,'STOCK ITEMS'!B143) -> 0 | M99: =D99 -> - | N99: =IF(L99<1,0,J99/I99) -> 0
A100: 99 | B100: ='STOCK ITEMS'!D144&IF('STOCK ITEMS'!E144="-","",'STOCK ITEMS'!E144)&" "&IF('STOCK ITEMS'!F144="-","",'STOCK ITEMS'!F144)&" "&'STOCK ITEMS'!G144&" "&'STOCK ITEMS'!H144&" "&'STOCK ITEMS'!I144&" "&'STOCK ITEMS'!J144&IF('STOCK ITEMS'!K144="-","",'STOCK ITEMS'!K144)&" "&IF('STOCK ITEMS'!L144="-","",'STOCK ITEMS'!L144) -> F Z 416 5-3/4" SJ 70R | C100: ="(Part #: "&'STOCK ITEMS'!M144&")" -> (Part #: FZ6575U23R) | D100: =IF('STOCK ITEMS'!B144>0,B100&" - "&C100,"-") -> - | E100: 2625000 | F100: =IF(D100="-",0,E100) -> 0 | G100: =F100+A100 -> 99 | H100: =RANK(G100,$G$2:$G$974,0) -> 875 | I100: =IF($D100="-",0,'STOCK ITEMS'!N144) -> 0 | J100: =IF($D100="-",0,'STOCK ITEMS'!O144) -> 0 | K100: =IF($D100="-",0,'STOCK ITEMS'!P144) -> 0 | L100: =IF($D100="-",0,'STOCK ITEMS'!B144) -> 0 | M100: =D100 -> - | N100: =IF(L100<1,0,J100/I100) -> 0
A101: 100 | B101: - | C101: - | D101: - | E101: 2622000 | F101: =IF(D101="-",0,E101) -> 0 | G101: =F101+A101 -> 100 | H101: =RANK(G101,$G$2:$G$974,0) -> 874 | I101: =IF($D101="-",0,'STOCK ITEMS'!N145) -> 0 | J101: =IF($D101="-",0,'STOCK ITEMS'!O145) -> 0 | K101: =IF($D101="-",0,'STOCK ITEMS'!P145) -> 0 | L101: =IF($D101="-",0,'STOCK ITEMS'!B145) -> 0 | M101: =D101 -> - | N101: =IF(L101<1,0,J101/I101) -> 0
A102: 101 | B102: - | C102: - | D102: - | E102: 2619000 | F102: =IF(D102="-",0,E102) -> 0 | G102: =F102+A102 -> 101 | H102: =RANK(G102,$G$2:$G$974,0) -> 873 | I102: =IF($D102="-",0,'STOCK ITEMS'!N146) -> 0 | J102: =IF($D102="-",0,'STOCK ITEMS'!O146) -> 0 | K102: =IF($D102="-",0,'STOCK ITEMS'!P146) -> 0 | L102: =IF($D102="-",0,'STOCK ITEMS'!B146) -> 0 | M102: =D102 -> - | N102: =IF(L102<1,0,J102/I102) -> 0
A103: 102 | B103: - | C103: - | D103: - | E103: 2616000 | F103: =IF(D103="-",0,E103) -> 0 | G103: =F103+A103 -> 102 | H103: =RANK(G103,$G$2:$G$974,0) -> 872 | I103: =IF($D103="-",0,'STOCK ITEMS'!N147) -> 0 | J103: =IF($D103="-",0,'STOCK ITEMS'!O147) -> 0 | K103: =IF($D103="-",0,'STOCK ITEMS'!P147) -> 0 | L103: =IF($D103="-",0,'STOCK ITEMS'!B147) -> 0 | M103: =D103 -> - | N103: =IF(L103<1,0,J103/I103) -> 0
A104: 103 | B104: ='STOCK ITEMS'!D148&IF('STOCK ITEMS'!E148="-","",'STOCK ITEMS'!E148)&" "&IF('STOCK ITEMS'!F148="-","",'STOCK ITEMS'!F148)&" "&'STOCK ITEMS'!G148&" "&'STOCK ITEMS'!H148&" "&'STOCK ITEMS'!I148&" "&'STOCK ITEMS'!J148&IF('STOCK ITEMS'!K148="-","",'STOCK ITEMS'!K148)&" "&IF('STOCK ITEMS'!L148="-","",'STOCK ITEMS'!L148) -> S 016 5-3/4" BS 10'7" | C104: ="(Part #: "&'STOCK ITEMS'!M148&")" -> (Part #: S6575A06) | D104: =IF('STOCK ITEMS'!B148>0,B104&" - "&C104,"-") -> - | E104: 2613000 | F104: =IF(D104="-",0,E104) -> 0 | G104: =F104+A104 -> 103 | H104: =RANK(G104,$G$2:$G$974,0) -> 871 | I104: =IF($D104="-",0,'STOCK ITEMS'!N148) -> 0 | J104: =IF($D104="-",0,'STOCK ITEMS'!O148) -> 0 | K104: =IF($D104="-",0,'STOCK ITEMS'!P148) -> 0 | L104: =IF($D104="-",0,'STOCK ITEMS'!B148) -> 0 | M104: =D104 -> - | N104: =IF(L104<1,0,J104/I104) -> 0
A105: 104 | B105: ='STOCK ITEMS'!D149&IF('STOCK ITEMS'!E149="-","",'STOCK ITEMS'!E149)&" "&IF('STOCK ITEMS'!F149="-","",'STOCK ITEMS'!F149)&" "&'STOCK ITEMS'!G149&" "&'STOCK ITEMS'!H149&" "&'STOCK ITEMS'!I149&" "&'STOCK ITEMS'!J149&IF('STOCK ITEMS'!K149="-","",'STOCK ITEMS'!K149)&" "&IF('STOCK ITEMS'!L149="-","",'STOCK ITEMS'!L149) -> S 016 5-3/4" BS4 10'7" W4F | C105: ="(Part #: "&'STOCK ITEMS'!M149&")" -> (Part #: S6575B06) | D105: =IF('STOCK ITEMS'!B149>0,B105&" - "&C105,"-") -> - | E105: 2610000 | F105: =IF(D105="-",0,E105) -> 0 | G105: =F105+A105 -> 104 | H105: =RANK(G105,$G$2:$G$974,0) -> 870 | I105: =IF($D105="-",0,'STOCK ITEMS'!N149) -> 0 | J105: =IF($D105="-",0,'STOCK ITEMS'!O149) -> 0 | K105: =IF($D105="-",0,'STOCK ITEMS'!P149) -> 0 | L105: =IF($D105="-",0,'STOCK ITEMS'!B149) -> 0 | M105: =D105 -> - | N105: =IF(L105<1,0,J105/I105) -> 0
A106: 105 | B106: ='STOCK ITEMS'!D150&IF('STOCK ITEMS'!E150="-","",'STOCK ITEMS'!E150)&" "&IF('STOCK ITEMS'!F150="-","",'STOCK ITEMS'!F150)&" "&'STOCK ITEMS'!G150&" "&'STOCK ITEMS'!H150&" "&'STOCK ITEMS'!I150&" "&'STOCK ITEMS'!J150&IF('STOCK ITEMS'!K150="-","",'STOCK ITEMS'!K150)&" "&IF('STOCK ITEMS'!L150="-","",'STOCK ITEMS'!L150) -> SCO 016 5-3/4" CS 10'7" | C106: ="(Part #: "&'STOCK ITEMS'!M150&")" -> (Part #: S6575E06) | D106: =IF('STOCK ITEMS'!B150>0,B106&" - "&C106,"-") -> - | E106: 2607000 | F106: =IF(D106="-",0,E106) -> 0 | G106: =F106+A106 -> 105 | H106: =RANK(G106,$G$2:$G$974,0) -> 869 | I106: =IF($D106="-",0,'STOCK ITEMS'!N150) -> 0 | J106: =IF($D106="-",0,'STOCK ITEMS'!O150) -> 0 | K106: =IF($D106="-",0,'STOCK ITEMS'!P150) -> 0 | L106: =IF($D106="-",0,'STOCK ITEMS'!B150) -> 0 | M106: =D106 -> - | N106: =IF(L106<1,0,J106/I106) -> 0
A107: 106 | B107: - | C107: - | D107: - | E107: 2604000 | F107: =IF(D107="-",0,E107) -> 0 | G107: =F107+A107 -> 106 | H107: =RANK(G107,$G$2:$G$974,0) -> 868 | I107: =IF($D107="-",0,'STOCK ITEMS'!N151) -> 0 | J107: =IF($D107="-",0,'STOCK ITEMS'!O151) -> 0 | K107: =IF($D107="-",0,'STOCK ITEMS'!P151) -> 0 | L107: =IF($D107="-",0,'STOCK ITEMS'!B151) -> 0 | M107: =D107 -> - | N107: =IF(L107<1,0,J107/I107) -> 0
A108: 107 | B108: - | C108: - | D108: - | E108: 2601000 | F108: =IF(D108="-",0,E108) -> 0 | G108: =F108+A108 -> 107 | H108: =RANK(G108,$G$2:$G$974,0) -> 867 | I108: =IF($D108="-",0,'STOCK ITEMS'!N152) -> 0 | J108: =IF($D108="-",0,'STOCK ITEMS'!O152) -> 0 | K108: =IF($D108="-",0,'STOCK ITEMS'!P152) -> 0 | L108: =IF($D108="-",0,'STOCK ITEMS'!B152) -> 0 | M108: =D108 -> - | N108: =IF(L108<1,0,J108/I108) -> 0
A109: 108 | B109: - | C109: - | D109: - | E109: 2598000 | F109: =IF(D109="-",0,E109) -> 0 | G109: =F109+A109 -> 108 | H109: =RANK(G109,$G$2:$G$974,0) -> 866 | I109: =IF($D109="-",0,'STOCK ITEMS'!N153) -> 0 | J109: =IF($D109="-",0,'STOCK ITEMS'!O153) -> 0 | K109: =IF($D109="-",0,'STOCK ITEMS'!P153) -> 0 | L109: =IF($D109="-",0,'STOCK ITEMS'!B153) -> 0 | M109: =D109 -> - | N109: =IF(L109<1,0,J109/I109) -> 0
A110: 109 | B110: ='STOCK ITEMS'!D154&IF('STOCK ITEMS'!E154="-","",'STOCK ITEMS'!E154)&" "&IF('STOCK ITEMS'!F154="-","",'STOCK ITEMS'!F154)&" "&'STOCK ITEMS'!G154&" "&'STOCK ITEMS'!H154&" "&'STOCK ITEMS'!I154&" "&'STOCK ITEMS'!J154&IF('STOCK ITEMS'!K154="-","",'STOCK ITEMS'!K154)&" "&IF('STOCK ITEMS'!L154="-","",'STOCK ITEMS'!L154) -> S Z 416 5-3/4" BS 10'7" | C110: ="(Part #: "&'STOCK ITEMS'!M154&")" -> (Part #: SZ6575A06) | D110: =IF('STOCK ITEMS'!B154>0,B110&" - "&C110,"-") -> - | E110: 2595000 | F110: =IF(D110="-",0,E110) -> 0 | G110: =F110+A110 -> 109 | H110: =RANK(G110,$G$2:$G$974,0) -> 865 | I110: =IF($D110="-",0,'STOCK ITEMS'!N154) -> 0 | J110: =IF($D110="-",0,'STOCK ITEMS'!O154) -> 0 | K110: =IF($D110="-",0,'STOCK ITEMS'!P154) -> 0 | L110: =IF($D110="-",0,'STOCK ITEMS'!B154) -> 0 | M110: =D110 -> - | N110: =IF(L110<1,0,J110/I110) -> 0
A111: 110 | B111: ='STOCK ITEMS'!D155&IF('STOCK ITEMS'!E155="-","",'STOCK ITEMS'!E155)&" "&IF('STOCK ITEMS'!F155="-","",'STOCK ITEMS'!F155)&" "&'STOCK ITEMS'!G155&" "&'STOCK ITEMS'!H155&" "&'STOCK ITEMS'!I155&" "&'STOCK ITEMS'!J155&IF('STOCK ITEMS'!K155="-","",'STOCK ITEMS'!K155)&" "&IF('STOCK ITEMS'!L155="-","",'STOCK ITEMS'!L155) -> S Z 416 5-3/4" BS 10'7" W4F | C111: ="(Part #: "&'STOCK ITEMS'!M155&")" -> (Part #: SZ6575B06) | D111: =IF('STOCK ITEMS'!B155>0,B111&" - "&C111,"-") -> - | E111: 2592000 | F111: =IF(D111="-",0,E111) -> 0 | G111: =F111+A111 -> 110 | H111: =RANK(G111,$G$2:$G$974,0) -> 864 | I111: =IF($D111="-",0,'STOCK ITEMS'!N155) -> 0 | J111: =IF($D111="-",0,'STOCK ITEMS'!O155) -> 0 | K111: =IF($D111="-",0,'STOCK ITEMS'!P155) -> 0 | L111: =IF($D111="-",0,'STOCK ITEMS'!B155) -> 0 | M111: =D111 -> - | N111: =IF(L111<1,0,J111/I111) -> 0
A112: 111 | B112: - | C112: - | D112: - | E112: 2589000 | F112: =IF(D112="-",0,E112) -> 0 | G112: =F112+A112 -> 111 | H112: =RANK(G112,$G$2:$G$974,0) -> 863 | I112: =IF($D112="-",0,'STOCK ITEMS'!N156) -> 0 | J112: =IF($D112="-",0,'STOCK ITEMS'!O156) -> 0 | K112: =IF($D112="-",0,'STOCK ITEMS'!P156) -> 0 | L112: =IF($D112="-",0,'STOCK ITEMS'!B156) -> 0 | M112: =D112 -> - | N112: =IF(L112<1,0,J112/I112) -> 0
A113: 112 | B113: - | C113: - | D113: - | E113: 2586000 | F113: =IF(D113="-",0,E113) -> 0 | G113: =F113+A113 -> 112 | H113: =RANK(G113,$G$2:$G$974,0) -> 862 | I113: =IF($D113="-",0,'STOCK ITEMS'!N157) -> 0 | J113: =IF($D113="-",0,'STOCK ITEMS'!O157) -> 0 | K113: =IF($D113="-",0,'STOCK ITEMS'!P157) -> 0 | L113: =IF($D113="-",0,'STOCK ITEMS'!B157) -> 0 | M113: =D113 -> - | N113: =IF(L113<1,0,J113/I113) -> 0
A114: 113 | B114: - | C114: - | D114: - | E114: 2583000 | F114: =IF(D114="-",0,E114) -> 0 | G114: =F114+A114 -> 113 | H114: =RANK(G114,$G$2:$G$974,0) -> 861 | I114: =IF($D114="-",0,'STOCK ITEMS'!N158) -> 0 | J114: =IF($D114="-",0,'STOCK ITEMS'!O158) -> 0 | K114: =IF($D114="-",0,'STOCK ITEMS'!P158) -> 0 | L114: =IF($D114="-",0,'STOCK ITEMS'!B158) -> 0 | M114: =D114 -> - | N114: =IF(L114<1,0,J114/I114) -> 0
A115: 114 | B115: ='STOCK ITEMS'!D159&IF('STOCK ITEMS'!E159="-","",'STOCK ITEMS'!E159)&" "&IF('STOCK ITEMS'!F159="-","",'STOCK ITEMS'!F159)&" "&'STOCK ITEMS'!G159&" "&'STOCK ITEMS'!H159&" "&'STOCK ITEMS'!I159&" "&'STOCK ITEMS'!J159&IF('STOCK ITEMS'!K159="-","",'STOCK ITEMS'!K159)&" "&IF('STOCK ITEMS'!L159="-","",'STOCK ITEMS'!L159) -> S 016 5-3/4" BM 10'7" | C115: ="(Part #: "&'STOCK ITEMS'!M159&")" -> (Part #: M6575N06) | D115: =IF('STOCK ITEMS'!B159>0,B115&" - "&C115,"-") -> - | E115: 2580000 | F115: =IF(D115="-",0,E115) -> 0 | G115: =F115+A115 -> 114 | H115: =RANK(G115,$G$2:$G$974,0) -> 860 | I115: =IF($D115="-",0,'STOCK ITEMS'!N159) -> 0 | J115: =IF($D115="-",0,'STOCK ITEMS'!O159) -> 0 | K115: =IF($D115="-",0,'STOCK ITEMS'!P159) -> 0 | L115: =IF($D115="-",0,'STOCK ITEMS'!B159) -> 0 | M115: =D115 -> - | N115: =IF(L115<1,0,J115/I115) -> 0
A116: 115 | B116: ='STOCK ITEMS'!D160&IF('STOCK ITEMS'!E160="-","",'STOCK ITEMS'!E160)&" "&IF('STOCK ITEMS'!F160="-","",'STOCK ITEMS'!F160)&" "&'STOCK ITEMS'!G160&" "&'STOCK ITEMS'!H160&" "&'STOCK ITEMS'!I160&" "&'STOCK ITEMS'!J160&IF('STOCK ITEMS'!K160="-","",'STOCK ITEMS'!K160)&" "&IF('STOCK ITEMS'!L160="-","",'STOCK ITEMS'!L160) -> S 016 5-3/4" MSS 10'7" | C116: ="(Part #: "&'STOCK ITEMS'!M160&")" -> (Part #: MS6575N6) | D116: =IF('STOCK ITEMS'!B160>0,B116&" - "&C116,"-") -> - | E116: 2577000 | F116: =IF(D116="-",0,E116) -> 0 | G116: =F116+A116 -> 115 | H116: =RANK(G116,$G$2:$G$974,0) -> 859 | I116: =IF($D116="-",0,'STOCK ITEMS'!N160) -> 0 | J116: =IF($D116="-",0,'STOCK ITEMS'!O160) -> 0 | K116: =IF($D116="-",0,'STOCK ITEMS'!P160) -> 0 | L116: =IF($D116="-",0,'STOCK ITEMS'!B160) -> 0 | M116: =D116 -> - | N116: =IF(L116<1,0,J116/I116) -> 0
A117: 116 | B117: ='STOCK ITEMS'!D161&IF('STOCK ITEMS'!E161="-","",'STOCK ITEMS'!E161)&" "&IF('STOCK ITEMS'!F161="-","",'STOCK ITEMS'!F161)&" "&'STOCK ITEMS'!G161&" "&'STOCK ITEMS'!H161&" "&'STOCK ITEMS'!I161&" "&'STOCK ITEMS'!J161&IF('STOCK ITEMS'!K161="-","",'STOCK ITEMS'!K161)&" "&IF('STOCK ITEMS'!L161="-","",'STOCK ITEMS'!L161) -> S 016 UNIV. MHSB 10'7" | C117: ="(Part #: "&'STOCK ITEMS'!M161&")" -> (Part #: MH6000N06) | D117: =IF('STOCK ITEMS'!B161>0,B117&" - "&C117,"-") -> - | E117: 2574000 | F117: =IF(D117="-",0,E117) -> 0 | G117: =F117+A117 -> 116 | H117: =RANK(G117,$G$2:$G$974,0) -> 858 | I117: =IF($D117="-",0,'STOCK ITEMS'!N161) -> 0 | J117: =IF($D117="-",0,'STOCK ITEMS'!O161) -> 0 | K117: =IF($D117="-",0,'STOCK ITEMS'!P161) -> 0 | L117: =IF($D117="-",0,'STOCK ITEMS'!B161) -> 0 | M117: =D117 -> - | N117: =IF(L117<1,0,J117/I117) -> 0
A118: 117 | B118: - | C118: - | D118: - | E118: 2571000 | F118: =IF(D118="-",0,E118) -> 0 | G118: =F118+A118 -> 117 | H118: =RANK(G118,$G$2:$G$974,0) -> 857 | I118: =IF($D118="-",0,'STOCK ITEMS'!N162) -> 0 | J118: =IF($D118="-",0,'STOCK ITEMS'!O162) -> 0 | K118: =IF($D118="-",0,'STOCK ITEMS'!P162) -> 0 | L118: =IF($D118="-",0,'STOCK ITEMS'!B162) -> 0 | M118: =D118 -> - | N118: =IF(L118<1,0,J118/I118) -> 0
A119: 118 | B119: - | C119: - | D119: - | E119: 2568000 | F119: =IF(D119="-",0,E119) -> 0 | G119: =F119+A119 -> 118 | H119: =RANK(G119,$G$2:$G$974,0) -> 856 | I119: =IF($D119="-",0,'STOCK ITEMS'!N163) -> 0 | J119: =IF($D119="-",0,'STOCK ITEMS'!O163) -> 0 | K119: =IF($D119="-",0,'STOCK ITEMS'!P163) -> 0 | L119: =IF($D119="-",0,'STOCK ITEMS'!B163) -> 0 | M119: =D119 -> - | N119: =IF(L119<1,0,J119/I119) -> 0
A120: 119 | B120: - | C120: - | D120: - | E120: 2565000 | F120: =IF(D120="-",0,E120) -> 0 | G120: =F120+A120 -> 119 | H120: =RANK(G120,$G$2:$G$974,0) -> 855 | I120: =IF($D120="-",0,'STOCK ITEMS'!N164) -> 0 | J120: =IF($D120="-",0,'STOCK ITEMS'!O164) -> 0 | K120: =IF($D120="-",0,'STOCK ITEMS'!P164) -> 0 | L120: =IF($D120="-",0,'STOCK ITEMS'!B164) -> 0 | M120: =D120 -> - | N120: =IF(L120<1,0,J120/I120) -> 0
A121: 120 | B121: ='STOCK ITEMS'!D165&IF('STOCK ITEMS'!E165="-","",'STOCK ITEMS'!E165)&" "&IF('STOCK ITEMS'!F165="-","",'STOCK ITEMS'!F165)&" "&'STOCK ITEMS'!G165&" "&'STOCK ITEMS'!H165&" "&'STOCK ITEMS'!I165&" "&'STOCK ITEMS'!J165&IF('STOCK ITEMS'!K165="-","",'STOCK ITEMS'!K165)&" "&IF('STOCK ITEMS'!L165="-","",'STOCK ITEMS'!L165) -> M Z 016 5-3/4" BM 10'7" | C121: ="(Part #: "&'STOCK ITEMS'!M165&")" -> (Part #: MZ6575N06) | D121: =IF('STOCK ITEMS'!B165>0,B121&" - "&C121,"-") -> - | E121: 2562000 | F121: =IF(D121="-",0,E121) -> 0 | G121: =F121+A121 -> 120 | H121: =RANK(G121,$G$2:$G$974,0) -> 854 | I121: =IF($D121="-",0,'STOCK ITEMS'!N165) -> 0 | J121: =IF($D121="-",0,'STOCK ITEMS'!O165) -> 0 | K121: =IF($D121="-",0,'STOCK ITEMS'!P165) -> 0 | L121: =IF($D121="-",0,'STOCK ITEMS'!B165) -> 0 | M121: =D121 -> - | N121: =IF(L121<1,0,J121/I121) -> 0
A122: 121 | B122: - | C122: - | D122: - | E122: 2559000 | F122: =IF(D122="-",0,E122) -> 0 | G122: =F122+A122 -> 121 | H122: =RANK(G122,$G$2:$G$974,0) -> 853 | I122: =IF($D122="-",0,'STOCK ITEMS'!N166) -> 0 | J122: =IF($D122="-",0,'STOCK ITEMS'!O166) -> 0 | K122: =IF($D122="-",0,'STOCK ITEMS'!P166) -> 0 | L122: =IF($D122="-",0,'STOCK ITEMS'!B166) -> 0 | M122: =D122 -> - | N122: =IF(L122<1,0,J122/I122) -> 0
A123: 122 | B123: - | C123: - | D123: - | E123: 2556000 | F123: =IF(D123="-",0,E123) -> 0 | G123: =F123+A123 -> 122 | H123: =RANK(G123,$G$2:$G$974,0) -> 852 | I123: =IF($D123="-",0,'STOCK ITEMS'!N167) -> 0 | J123: =IF($D123="-",0,'STOCK ITEMS'!O167) -> 0 | K123: =IF($D123="-",0,'STOCK ITEMS'!P167) -> 0 | L123: =IF($D123="-",0,'STOCK ITEMS'!B167) -> 0 | M123: =D123 -> - | N123: =IF(L123<1,0,J123/I123) -> 0
A124: 123 | B124: - | C124: - | D124: - | E124: 2553000 | F124: =IF(D124="-",0,E124) -> 0 | G124: =F124+A124 -> 123 | H124: =RANK(G124,$G$2:$G$974,0) -> 851 | I124: =IF($D124="-",0,'STOCK ITEMS'!N168) -> 0 | J124: =IF($D124="-",0,'STOCK ITEMS'!O168) -> 0 | K124: =IF($D124="-",0,'STOCK ITEMS'!P168) -> 0 | L124: =IF($D124="-",0,'STOCK ITEMS'!B168) -> 0 | M124: =D124 -> - | N124: =IF(L124<1,0,J124/I124) -> 0
A125: 124 | B125: ='STOCK ITEMS'!D169&IF('STOCK ITEMS'!E169="-","",'STOCK ITEMS'!E169)&" "&IF('STOCK ITEMS'!F169="-","",'STOCK ITEMS'!F169)&" "&'STOCK ITEMS'!G169&" "&'STOCK ITEMS'!H169&" "&'STOCK ITEMS'!I169&" "&'STOCK ITEMS'!J169&IF('STOCK ITEMS'!K169="-","",'STOCK ITEMS'!K169)&" "&IF('STOCK ITEMS'!L169="-","",'STOCK ITEMS'!L169) -> FDJ 416 5-5/8" FH 30 | C125: ="(Part #: "&'STOCK ITEMS'!M169&")" -> (Part #: FD6562A07) | D125: =IF('STOCK ITEMS'!B169>0,B125&" - "&C125,"-") -> - | E125: 2550000 | F125: =IF(D125="-",0,E125) -> 0 | G125: =F125+A125 -> 124 | H125: =RANK(G125,$G$2:$G$974,0) -> 850 | I125: =IF($D125="-",0,'STOCK ITEMS'!N169) -> 0 | J125: =IF($D125="-",0,'STOCK ITEMS'!O169) -> 0 | K125: =IF($D125="-",0,'STOCK ITEMS'!P169) -> 0 | L125: =IF($D125="-",0,'STOCK ITEMS'!B169) -> 0 | M125: =D125 -> - | N125: =IF(L125<1,0,J125/I125) -> 0
A126: 125 | B126: ='STOCK ITEMS'!D170&IF('STOCK ITEMS'!E170="-","",'STOCK ITEMS'!E170)&" "&IF('STOCK ITEMS'!F170="-","",'STOCK ITEMS'!F170)&" "&'STOCK ITEMS'!G170&" "&'STOCK ITEMS'!H170&" "&'STOCK ITEMS'!I170&" "&'STOCK ITEMS'!J170&IF('STOCK ITEMS'!K170="-","",'STOCK ITEMS'!K170)&" "&IF('STOCK ITEMS'!L170="-","",'STOCK ITEMS'!L170) -> FDJ 416 5-5/8" FH 60 | C126: ="(Part #: "&'STOCK ITEMS'!M170&")" -> (Part #: FD6562A19) | D126: =IF('STOCK ITEMS'!B170>0,B126&" - "&C126,"-") -> - | E126: 2547000 | F126: =IF(D126="-",0,E126) -> 0 | G126: =F126+A126 -> 125 | H126: =RANK(G126,$G$2:$G$974,0) -> 849 | I126: =IF($D126="-",0,'STOCK ITEMS'!N170) -> 0 | J126: =IF($D126="-",0,'STOCK ITEMS'!O170) -> 0 | K126: =IF($D126="-",0,'STOCK ITEMS'!P170) -> 0 | L126: =IF($D126="-",0,'STOCK ITEMS'!B170) -> 0 | M126: =D126 -> - | N126: =IF(L126<1,0,J126/I126) -> 0
A127: 126 | B127: ='STOCK ITEMS'!D171&IF('STOCK ITEMS'!E171="-","",'STOCK ITEMS'!E171)&" "&IF('STOCK ITEMS'!F171="-","",'STOCK ITEMS'!F171)&" "&'STOCK ITEMS'!G171&" "&'STOCK ITEMS'!H171&" "&'STOCK ITEMS'!I171&" "&'STOCK ITEMS'!J171&IF('STOCK ITEMS'!K171="-","",'STOCK ITEMS'!K171)&" "&IF('STOCK ITEMS'!L171="-","",'STOCK ITEMS'!L171) -> FDJ 416 5-5/8" HJ 68L | C127: ="(Part #: "&'STOCK ITEMS'!M171&")" -> (Part #: FD6562H21L) | D127: =IF('STOCK ITEMS'!B171>0,B127&" - "&C127,"-") -> - | E127: 2544000 | F127: =IF(D127="-",0,E127) -> 0 | G127: =F127+A127 -> 126 | H127: =RANK(G127,$G$2:$G$974,0) -> 848 | I127: =IF($D127="-",0,'STOCK ITEMS'!N171) -> 0 | J127: =IF($D127="-",0,'STOCK ITEMS'!O171) -> 0 | K127: =IF($D127="-",0,'STOCK ITEMS'!P171) -> 0 | L127: =IF($D127="-",0,'STOCK ITEMS'!B171) -> 0 | M127: =D127 -> - | N127: =IF(L127<1,0,J127/I127) -> 0
A128: 127 | B128: ='STOCK ITEMS'!D172&IF('STOCK ITEMS'!E172="-","",'STOCK ITEMS'!E172)&" "&IF('STOCK ITEMS'!F172="-","",'STOCK ITEMS'!F172)&" "&'STOCK ITEMS'!G172&" "&'STOCK ITEMS'!H172&" "&'STOCK ITEMS'!I172&" "&'STOCK ITEMS'!J172&IF('STOCK ITEMS'!K172="-","",'STOCK ITEMS'!K172)&" "&IF('STOCK ITEMS'!L172="-","",'STOCK ITEMS'!L172) -> FDJ 416 5-5/8" HJ 68R | C128: ="(Part #: "&'STOCK ITEMS'!M172&")" -> (Part #: FD6562H21R) | D128: =IF('STOCK ITEMS'!B172>0,B128&" - "&C128,"-") -> - | E128: 2541000 | F128: =IF(D128="-",0,E128) -> 0 | G128: =F128+A128 -> 127 | H128: =RANK(G128,$G$2:$G$974,0) -> 847 | I128: =IF($D128="-",0,'STOCK ITEMS'!N172) -> 0 | J128: =IF($D128="-",0,'STOCK ITEMS'!O172) -> 0 | K128: =IF($D128="-",0,'STOCK ITEMS'!P172) -> 0 | L128: =IF($D128="-",0,'STOCK ITEMS'!B172) -> 0 | M128: =D128 -> - | N128: =IF(L128<1,0,J128/I128) -> 0
A129: 128 | B129: ='STOCK ITEMS'!D173&IF('STOCK ITEMS'!E173="-","",'STOCK ITEMS'!E173)&" "&IF('STOCK ITEMS'!F173="-","",'STOCK ITEMS'!F173)&" "&'STOCK ITEMS'!G173&" "&'STOCK ITEMS'!H173&" "&'STOCK ITEMS'!I173&" "&'STOCK ITEMS'!J173&IF('STOCK ITEMS'!K173="-","",'STOCK ITEMS'!K173)&" "&IF('STOCK ITEMS'!L173="-","",'STOCK ITEMS'!L173) -> FDJ 416 5-5/8" SJ 68L | C129: ="(Part #: "&'STOCK ITEMS'!M173&")" -> (Part #: FD6562U21L) | D129: =IF('STOCK ITEMS'!B173>0,B129&" - "&C129,"-") -> - | E129: 2538000 | F129: =IF(D129="-",0,E129) -> 0 | G129: =F129+A129 -> 128 | H129: =RANK(G129,$G$2:$G$974,0) -> 846 | I129: =IF($D129="-",0,'STOCK ITEMS'!N173) -> 0 | J129: =IF($D129="-",0,'STOCK ITEMS'!O173) -> 0 | K129: =IF($D129="-",0,'STOCK ITEMS'!P173) -> 0 | L129: =IF($D129="-",0,'STOCK ITEMS'!B173) -> 0 | M129: =D129 -> - | N129: =IF(L129<1,0,J129/I129) -> 0
A130: 129 | B130: ='STOCK ITEMS'!D174&IF('STOCK ITEMS'!E174="-","",'STOCK ITEMS'!E174)&" "&IF('STOCK ITEMS'!F174="-","",'STOCK ITEMS'!F174)&" "&'STOCK ITEMS'!G174&" "&'STOCK ITEMS'!H174&" "&'STOCK ITEMS'!I174&" "&'STOCK ITEMS'!J174&IF('STOCK ITEMS'!K174="-","",'STOCK ITEMS'!K174)&" "&IF('STOCK ITEMS'!L174="-","",'STOCK ITEMS'!L174) -> FDJ 416 5-5/8" SJ 68R | C130: ="(Part #: "&'STOCK ITEMS'!M174&")" -> (Part #: FD6562U21R) | D130: =IF('STOCK ITEMS'!B174>0,B130&" - "&C130,"-") -> - | E130: 2535000 | F130: =IF(D130="-",0,E130) -> 0 | G130: =F130+A130 -> 129 | H130: =RANK(G130,$G$2:$G$974,0) -> 845 | I130: =IF($D130="-",0,'STOCK ITEMS'!N174) -> 0 | J130: =IF($D130="-",0,'STOCK ITEMS'!O174) -> 0 | K130: =IF($D130="-",0,'STOCK ITEMS'!P174) -> 0 | L130: =IF($D130="-",0,'STOCK ITEMS'!B174) -> 0 | M130: =D130 -> - | N130: =IF(L130<1,0,J130/I130) -> 0
...
