Workbook
Name _1000___2000_Series_End_Caps: #REF!
Name _2P_Pull_Trims: #REF!
Name _316_116_Arm_Options: 'STOCK ITEMS'!$C$269:$C$300
Name _316_116_Miscellaneous_Parts___Accessories: 'STOCK ITEMS'!$C$301:$C$314
Name _416_Door_Closer: 'STOCK ITEMS'!$C$321:$C$350
Name _73_Series___Fixed_Size_Economy_Door_Closers: 'STOCK ITEMS'!$C$227:$C$252
Name arms_116: #REF!
Name Arrow_AR1_keyways: #REF!
Name bb_5: #REF!
Name BB5_4.5_x_4.5_x: 'STOCK ITEMS'!$C$56:$C$85
Name closer_316: #REF!
Name closer_416: #REF!
Name closera_416: #REF!
Name CloserFunctions: #REF!
Name closers_1: #REF!
Name ClosersFunctions: #REF!
Name cores: 'STOCK ITEMS'!#REF!
Name curved: 'STOCK ITEMS'!$C$638:$C$667
Name cyl: 'STOCK ITEMS'!$C$1481:$C$1550
Name Cylinder_Dogging_Kits: #REF!
Name Cylinders___Lock_Accessories: #REF!
Name d_1: 'STOCK ITEMS'!$C$402:$C$436
Name D_2_2: #REF!
Name d_22: 'STOCK ITEMS'!$C$437:$C$468
Name D1_Series_Cylindrical_Deadbolts___Grade_1: #REF!
Name D2_Series_Cylindrical_Deadbolts___Grade_2: #REF!
Name dog: 'STOCK ITEMS'!$C$1355:$C$1374
Name drop_116: #REF!
Name Drop_Plates: 'STOCK ITEMS'!$C$358:$C$394
Name e_1: 'STOCK ITEMS'!$C$1094:$C$1151
Name e_2: 'STOCK ITEMS'!$C$1176:$C$1203
Name ea: 'STOCK ITEMS'!#REF!
Name exitstrikes: 'STOCK ITEMS'!$C$1423:$C$1462
Name exitstrims: 'STOCK ITEMS'!$C$1232:$C$1311
Name flat_goods: #REF!
Name Flat_Goods_and_Accessories: 'STOCK ITEMS'!$C$130:$C$188
Name functions10000: #REF!
Name Heavy_Duty_1000_Series_Exit_Devices___Grade_1: #REF!
Name hinge: #REF!
Name hinge_2: #REF!
Name I_1: #REF!
Name I_Series_Cylindrical_Interconnected_Lever_Locks___Grade_2: 'STOCK ITEMS'!$C$756:$C$758
Name Ic: 'STOCK ITEMS'!#REF!
Name IFunctions: #REF!
Name Interchangable_Core_Products: #REF!
Name Interchangeable_Cores__Keys___Keying: #REF!
Name jump: 'STOCK ITEMS'!#REF!
Name k_2: 'STOCK ITEMS'!$C$902:$C$934
Name K2_Series_Cylindrical_Knob_Lock___Grade_2: #REF!
Name Keys___Keying: #REF!
Name keyway_1: 'STOCK ITEMS'!$C$1554:$C$1608
Name Keyway_2: 'STOCK ITEMS'!$C$1610:$C$1666
Name Keyway_3: 'STOCK ITEMS'!$C$1668:$C$1679
Name kitc: 'STOCK ITEMS'!$C$787:$C$825
Name kitsa1: 'STOCK ITEMS'!$C$827:$C$844
Name kitsa2: 'STOCK ITEMS'!$C$845:$C$862
Name kitssb: 'STOCK ITEMS'!$C$863:$C$899
Name Kwikset_keyways: #REF!
Name L_1: #REF!
Name L_2: #REF!

Sheet STOCK ITEMS
B1: Mesker - 72 Hour List | H1: =SUM(P46:P1727) -> 0 | L1: Jump to Menu
P2: Last Updated: 5 8 2014
J3: Amount | L3: Category
J5: =SUM(P46:P55) -> 0 | L5: =B44 -> 3068 & 3070 CRS DOORS - 18 Ga., Inverted Top, Mesker Locations
J6: =SUM(P59:P63) -> 0 | L6: =B57 -> 3068 GALV DOORS - 18 Ga., Flush Top, Mesker Locations
B7: ***This form must be used for 72 hour shipments | J7: =SUM(P67:P71) -> 0 | L7: =B65 -> 3070 GALV DOORS - 18 Ga., Flush Top, Mesker Locations
J8: =SUM(P75:P76) -> 0 | L8: =B73 -> 3068 DOORS - GALV, 18 GA., Flush Top, Competitors Locations
J9: =SUM(P79:P83) -> 0 | L9: =B77 -> 3070 GALV DOORS - 18 GA., Flush Top, Competitors Locations
B10: ***Frames must be ordered in bundle quantity minimums | J10: =SUM(P87:P129) -> 0 | L10: =B85 -> F SERIES - CRS, 16 Ga., Mesker Locations
J11: =SUM(P133:P144) -> 0 | L11: =B131 -> F SERIES - GALV, 16 Ga., Mesker Locations
J12: =SUM(P148:P150) -> 0 | L12: =B146 -> STICK - CRS, 16 Ga., Mesker Locations
B13: ***Pool truck customers are requested to order frames in layer quantity minimums | J13: =SUM(P154:P155) -> 0 | L13: =B152 -> STICK - GALV, 16 Ga., Mesker Locations
J14: =SUM(P159:P161) -> 0 | L14: =B157 -> MULLION - CRS, 16 Ga., Mesker Locations
J15: =SUM(P165:P165) -> 0 | L15: =B163 -> MULLION - GALV, 16 Ga., Mesker Locations
B16: ***Max 360 frame pieces per order. Max 120 doors. Consult factory on larger orders. | J16: =SUM(P169:P203) -> 0 | L16: =B167 -> FDJ SERIES - CRS, 16 Ga., Mesker Locations
J17: =SUM(P207:P265) -> 0 | L17: =B205 -> DOOR PARTS
J18: =SUM(P269:P338)+SUM(P340:P343) -> 0 | L18: =B267 -> FRAME PARTS
C19: Customer Name: | J19: =P339 -> 0 | L19: GLAZING BEAD
C20: -
C22: Door Multiplier:
C23: 1
C25: Frame Multiplier:
C26: 1
C28: P.O. Number:
C29: -
C31: Ship To:
C32: -
C33: -
C34: -
C36: Phone:
C37: - | J37: =SUM(B46:B83) -> 0 | L37: Door Counter
J38: =SUM(B87:B203) -> 0 | L38: Frame Counter
C39: Rep Initials | J39: =SUM(B207:B343) -> 0 | L39: Part Counter
C40: Cust | J40: =SUM($W$46:$W$343) -> 0 | L40: Total Weight
B44: 3068 & 3070 CRS DOORS - 18 Ga., Inverted Top, Mesker Locations | R44: Multiplier Control
B45: Qty | C45: Pallet | D45: Description | M45: Part # | N45: List | O45: Net | P45: Extended | R45: Standard | S45: Switch | T45: Custom
C46: 20 | D46: N P 418 C4 3068F | M46: N807P1 | N46: 550 | O46: =IF(S46="Custom",N46*T46,N46*R46) -> 550 | P46: =O46*B46 -> 0 | R46: =$C$23 -> 1 | S46: Standard | T46: 1 | V46: 99 | W46: =V46*B46 -> 0
C47: 20 | D47: N P 418 C4 TURTLE 3068F | M47: N807P15 | N47: 550 | O47: =IF(S47="Custom",N47*T47,N47*R47) -> 550 | P47: =O47*B47 -> 0 | R47: =$C$23 -> 1 | S47: Standard | T47: 1 | V47: 99 | W47: =V47*B47 -> 0
C48: 20 | D48: N P 418 MB 3068F | M48: N807P2 | N48: 550 | O48: =IF(S48="Custom",N48*T48,N48*R48) -> 550 | P48: =O48*B48 -> 0 | R48: =$C$23 -> 1 | S48: Standard | T48: 1 | V48: 99 | W48: =V48*B48 -> 0
C49: 20 | D49: N P 418 MBN 3068F | M49: N807P3 | N49: 550 | O49: =IF(S49="Custom",N49*T49,N49*R49) -> 550 | P49: =O49*B49 -> 0 | R49: =$C$23 -> 1 | S49: Standard | T49: 1 | V49: 99 | W49: =V49*B49 -> 0
...

Sheet BILL OF MATERIALS
A1: Mesker - 72 Hour Form : Bill of Materials | G1: =TODAY() -> 41767
A2: COMPANY: | C2: ='STOCK ITEMS'!C20 -> - | E2: TOTAL: | F2: =SUM(F8:F2003) -> 0 | O2: =NOW() -> 41767.324 | P2: =MINUTE(O2) -> 46 | R2: ="Quote# "&Q6&Q5&Q4&Q3&" "&'STOCK ITEMS'!C40 -> Quote# 140508.7.46 Cust
A3: Ship to: | C3: ='STOCK ITEMS'!C32 -> - | D3: =IF('STOCK ITEMS'!C29="-","-","PO# "&'STOCK ITEMS'!C29) -> - | P3: =HOUR(O2) -> 7 | Q3: ="."&P3&"."&P2 -> .7.46 | R3: =Q6&Q5&Q4&Q3&" "&'STOCK ITEMS'!C40 -> 140508.7.46 Cust
C4: ='STOCK ITEMS'!C33 -> - | D4: =IF(OR('STOCK ITEMS'!C29="",'STOCK ITEMS'!C29="-"),R2,"-") -> Quote# 140508.7.46 Cust | P4: =DAY(O2) -> 8 | Q4: =IF(P4<10,"0"&P4,P4) -> 08
C5: ='STOCK ITEMS'!C34 -> - | E5: ="Doors: "&'STOCK ITEMS'!$J$37 -> Doors: 0 | F5: ="Frames: "&'STOCK ITEMS'!$J$38 -> Frames: 0 | P5: =MONTH(O2) -> 5 | Q5: =IF(P5<10,"0"&P5,P5) -> 05
A6: Phone: | C6: ='STOCK ITEMS'!C37 -> - | E6: =" Weight: "&'STOCK ITEMS'!$J$40 -> Weight: 0 | P6: =YEAR(O2) -> 2014 | Q6: =IF(P6=2012,12,IF(P6=2013,13,IF(P6=2014,14,IF(P6=2015,15,IF(P6=2016,16,"fix date"))))) -> 14
A7: LINE # | B7: QTY | C7: ITEM | D7: MULT. | E7: NET | F7: EXTENDED | O7: yes no
A8: 1 | B8: =VLOOKUP($A8,POOL!$H$2:$Q$974,5,FALSE) -> 0 | C8: =VLOOKUP($A8,POOL!$H$2:$Q$974,6,FALSE) -> - | D8: =VLOOKUP($A8,POOL!$H$2:$Q$974,7,FALSE) -> 0 | E8: =VLOOKUP($A8,POOL!$H$2:$Q$974,3,FALSE) -> 0 | F8: =VLOOKUP($A8,POOL!$H$2:$Q$974,4,FALSE) -> 0 | O8: =IF(B8>0,1,0) -> 0
A9: 2 | B9: =VLOOKUP($A9,POOL!$H$2:$Q$974,5,FALSE) -> 0 | C9: =VLOOKUP($A9,POOL!$H$2:$Q$974,6,FALSE) -> - | D9: =VLOOKUP($A9,POOL!$H$2:$Q$974,7,FALSE) -> 0 | E9: =VLOOKUP($A9,POOL!$H$2:$Q$974,3,FALSE) -> 0 | F9: =VLOOKUP($A9,POOL!$H$2:$Q$974,4,FALSE) -> 0 | O9: =IF(B9>0,1,0) -> 0
A10: 3 | B10: =VLOOKUP($A10,POOL!$H$2:$Q$974,5,FALSE) -> 0 | C10: =VLOOKUP($A10,POOL!$H$2:$Q$974,6,FALSE) -> - | D10: =VLOOKUP($A10,POOL!$H$2:$Q$974,7,FALSE) -> 0 | E10: =VLOOKUP($A10,POOL!$H$2:$Q$974,3,FALSE) -> 0 | F10: =VLOOKUP($A10,POOL!$H$2:$Q$974,4,FALSE) -> 0 | O10: =IF(B10>0,1,0) -> 0
A11: 4 | B11: =VLOOKUP($A11,POOL!$H$2:$Q$974,5,FALSE) -> 0 | C11: =VLOOKUP($A11,POOL!$H$2:$Q$974,6,FALSE) -> - | D11: =VLOOKUP($A11,POOL!$H$2:$Q$974,7,FALSE) -> 0 | E11: =VLOOKUP($A11,POOL!$H$2:$Q$974,3,FALSE) -> 0 | F11: =VLOOKUP($A11,POOL!$H$2:$Q$974,4,FALSE) -> 0 | O11: =IF(B11>0,1,0) -> 0
A12: 5 | B12: =VLOOKUP($A12,POOL!$H$2:$Q$974,5,FALSE) -> 0 | C12: =VLOOKUP($A12,POOL!$H$2:$Q$974,6,FALSE) -> - | D12: =VLOOKUP($A12,POOL!$H$2:$Q$974,7,FALSE) -> 0 | E12: =VLOOKUP($A12,POOL!$H$2:$Q$974,3,FALSE) -> 0 | F12: =VLOOKUP($A12,POOL!$H$2:$Q$974,4,FALSE) -> 0 | O12: =IF(B12>0,1,0) -> 0
A13: 6 | B13: =VLOOKUP($A13,POOL!$H$2:$Q$974,5,FALSE) -> 0 | C13: =VLOOKUP($A13,POOL!$H$2:$Q$974,6,FALSE) -> - | D13: =VLOOKUP($A13,POOL!$H$2:$Q$974,7,FALSE) -> 0 | E13: =VLOOKUP($A13,POOL!$H$2:$Q$974,3,FALSE) -> 0 | F13: =VLOOKUP($A13,POOL!$H$2:$Q$974,4,FALSE) -> 0 | O13: =IF(B13>0,1,0) -> 0
A14: 7 | B14: =VLOOKUP($A14,POOL!$H$2:$Q$974,5,FALSE) -> 0 | C14: =VLOOKUP($A14,POOL!$H$2:$Q$974,6,FALSE) -> - | D14: =VLOOKUP($A14,POOL!$H$2:$Q$974,7,FALSE) -> 0 | E14: =VLOOKUP($A14,POOL!$H$2:$Q$974,3,FALSE) -> 0 | F14: =VLOOKUP($A14,POOL!$H$2:$Q$974,4,FALSE) -> 0 | O14: =IF(B14>0,1,0) -> 0
A15: 8 | B15: =VLOOKUP($A15,POOL!$H$2:$Q$974,5,FALSE) -> 0 | C15: =VLOOKUP($A15,POOL!$H$2:$Q$974,6,FALSE) -> - | D15: =VLOOKUP($A15,POOL!$H$2:$Q$974,7,FALSE) -> 0 | E15: =VLOOKUP($A15,POOL!$H$2:$Q$974,3,FALSE) -> 0 | F15: =VLOOKUP($A15,POOL!$H$2:$Q$974,4,FALSE) -> 0 | O15: =IF(B15>0,1,0) -> 0
A16: 9 | B16: =VLOOKUP($A16,POOL!$H$2:$Q$974,5,FALSE) -> 0 | C16: =VLOOKUP($A16,POOL!$H$2:$Q$974,6,FALSE) -> - | D16: =VLOOKUP($A16,POOL!$H$2:$Q$974,7,FALSE) -> 0 | E16: =VLOOKUP($A16,POOL!$H$2:$Q$974,3,FALSE) -> 0 | F16: =VLOOKUP($A16,POOL!$H$2:$Q$974,4,FALSE) -> 0 | O16: =IF(B16>0,1,0) -> 0
A17: 10 | B17: =VLOOKUP($A17,POOL!$H$2:$Q$974,5,FALSE) -> 0 | C17: =VLOOKUP($A17,POOL!$H$2:$Q$974,6,FALSE) -> - | D17: =VLOOKUP($A17,POOL!$H$2:$Q$974,7,FALSE) -> 0 | E17: =VLOOKUP($A17,POOL!$H$2:$Q$974,3,FALSE) -> 0 | F17: =VLOOKUP($A17,POOL!$H$2:$Q$974,4,FALSE) -> 0 | O17: =IF(B17>0,1,0) -> 0
A18: 11 | B18: =VLOOKUP($A18,POOL!$H$2:$Q$974,5,FALSE) -> 0 | C18: =VLOOKUP($A18,POOL!$H$2:$Q$974,6,FALSE) -> - | D18: =VLOOKUP($A18,POOL!$H$2:$Q$974,7,FALSE) -> 0 | E18: =VLOOKUP($A18,POOL!$H$2:$Q$974,3,FALSE) -> 0 | F18: =VLOOKUP($A18,POOL!$H$2:$Q$974,4,FALSE) -> 0 | O18: =IF(B18>0,1,0) -> 0
A19: 12 | B19: =VLOOKUP($A19,POOL!$H$2:$Q$974,5,FALSE) -> 0 | C19: =VLOOKUP($A19,POOL!$H$2:$Q$974,6,FALSE) -> - | D19: =VLOOKUP($A19,POOL!$H$2:$Q$974,7,FALSE) -> 0 | E19: =VLOOKUP($A19,POOL!$H$2:$Q$974,3,FALSE) -> 0 | F19: =VLOOKUP($A19,POOL!$H$2:$Q$974,4,FALSE) -> 0 | O19: =IF(B19>0,1,0) -> 0
... A966: 959 | B966: =VLOOKUP($A966,POOL!$H$2:$Q$974,5,FALSE) -> 0 | C966: =VLOOKUP($A966,POOL!$H$2:$Q$974,6,FALSE) -> - | D966: =VLOOKUP($A966,POOL!$H$2:$Q$974,7,FALSE) -> 0 | E966: =VLOOKUP($A966,POOL!$H$2:$Q$974,3,FALSE) -> 0 | F966: =VLOOKUP($A966,POOL!$H$2:$Q$974,4,FALSE) -> 0 | O966: =IF(B966>0,1,0) -> 0
A967: x | B967: x | C967: x | D967: X | E967: x | F967: x

Sheet POOL
A1: LINE | B1: BASE ITEM | C1: CODE | D1: ITEM | E1: SORT VAL | F1: FOUND SORT VAL | G1: SORT SUM | H1: RANK | I1: LIST | J1: NET | K1: EXT | L1: QTY | M1: ITEM LINK | N1: MULT
A2: 1 | B2: ='STOCK ITEMS'!D46 -> N P 418 C4 3068F | C2: ="(Part #: "&'STOCK ITEMS'!M46&")" -> (Part #: N807P1) | D2: =IF('STOCK ITEMS'!B46>0,B2&" - "&C2,"-") -> - | E2: 2919000 | F2: =IF(D2="-",0,E2) -> 0 | G2: =F2+A2 -> 1 | H2: =RANK(G2,$G$2:$G$974,0) -> 973 | I2: =IF($D2="-",0,'STOCK ITEMS'!N46) -> 0 | J2: =IF($D2="-",0,'STOCK ITEMS'!O46) -> 0 | K2: =IF($D2="-",0,'STOCK ITEMS'!P46) -> 0 | L2: =IF($D2="-",0,'STOCK ITEMS'!B46) -> 0 | M2: =D2 -> - | N2: =IF(L2<1,0,J2/I2) -> 0
A3: 2 | B3: ='STOCK ITEMS'!D47 -> N P 418 C4 TURTLE 3068F | C3: ="(Part #: "&'STOCK ITEMS'!M47&")" -> (Part #: N807P15) | D3: =IF('STOCK ITEMS'!B47>0,B3&" - "&C3,"-") -> - | E3: 2916000 | F3: =IF(D3="-",0,E3) -> 0 | G3: =F3+A3 -> 2 | H3: =RANK(G3,$G$2:$G$974,0) -> 972 | I3: =IF($D3="-",0,'STOCK ITEMS'!N47) -> 0 | J3: =IF($D3="-",0,'STOCK ITEMS'!O47) -> 0 | K3: =IF($D3="-",0,'STOCK ITEMS'!P47) -> 0 | L3: =IF($D3="-",0,'STOCK ITEMS'!B47) -> 0 | M3: =D3 -> - | N3: =IF(L3<1,0,J3/I3) -> 0
A4: 3 | B4: ='STOCK ITEMS'!D48 -> N P 418 MB 3068F | C4: ="(Part #: "&'STOCK ITEMS'!M48&")" -> (Part #: N807P2) | D4: =IF('STOCK ITEMS'!B48>0,B4&" - "&C4,"-") -> - | E4: 2913000 | F4: =IF(D4="-",0,E4) -> 0 | G4: =F4+A4 -> 3 | H4: =RANK(G4,$G$2:$G$974,0) -> 971 | I4: =IF($D4="-",0,'STOCK ITEMS'!N48) -> 0 | J4: =IF($D4="-",0,'STOCK ITEMS'!O48) -> 0 | K4: =IF($D4="-",0,'STOCK ITEMS'!P48) -> 0 | L4: =IF($D4="-",0,'STOCK ITEMS'!B48) -> 0 | M4: =D4 -> - | N4: =IF(L4<1,0,J4/I4) -> 0
A5: 4 | B5: ='STOCK ITEMS'!D49 -> N P 418 MBN 3068F | C5: ="(Part #: "&'STOCK ITEMS'!M49&")" -> (Part #: N807P3) | D5: =IF('STOCK ITEMS'!B49>0,B5&" - "&C5,"-") -> - | E5: 2910000 | F5: =IF(D5="-",0,E5) -> 0 | G5: =F5+A5 -> 4 | H5: =RANK(G5,$G$2:$G$974,0) -> 970 | I5: =IF($D5="-",0,'STOCK ITEMS'!N49) -> 0 | J5: =IF($D5="-",0,'STOCK ITEMS'!O49) -> 0 | K5: =IF($D5="-",0,'STOCK ITEMS'!P49) -> 0 | L5: =IF($D5="-",0,'STOCK ITEMS'!B49) -> 0 | M5: =D5 -> - | N5: =IF(L5<1,0,J5/I5) -> 0
A6: 5 | B6: ='STOCK ITEMS'!D50 -> N P 418 RP 3068F | C6: ="(Part #: "&'STOCK ITEMS'!M50&")" -> (Part #: N807P4) | D6: =IF('STOCK ITEMS'!B50>0,B6&" - "&C6,"-") -> - | E6: 2907000 | F6: =IF(D6="-",0,E6) -> 0 | G6: =F6+A6 -> 5 | H6: =RANK(G6,$G$2:$G$974,0) -> 969 | I6: =IF($D6="-",0,'STOCK ITEMS'!N50) -> 0 | J6: =IF($D6="-",0,'STOCK ITEMS'!O50) -> 0 | K6: =IF($D6="-",0,'STOCK ITEMS'!P50) -> 0 | L6: =IF($D6="-",0,'STOCK ITEMS'!B50) -> 0 | M6: =D6 -> - | N6: =IF(L6<1,0,J6/I6) -> 0
A7: 6 | B7: ='STOCK ITEMS'!D51 -> N P 418 C4 3070F | C7: ="(Part #: "&'STOCK ITEMS'!M51&")" -> (Part #: N833P1) | D7: =IF('STOCK ITEMS'!B51>0,B7&" - "&C7,"-") -> - | E7: 2904000 | F7: =IF(D7="-",0,E7) -> 0 | G7: =F7+A7 -> 6 | H7: =RANK(G7,$G$2:$G$974,0) -> 968 | I7: =IF($D7="-",0,'STOCK ITEMS'!N51) -> 0 | J7: =IF($D7="-",0,'STOCK ITEMS'!O51) -> 0 | K7: =IF($D7="-",0,'STOCK ITEMS'!P51) -> 0 | L7: =IF($D7="-",0,'STOCK ITEMS'!B51) -> 0 | M7: =D7 -> - | N7: =IF(L7<1,0,J7/I7) -> 0
A8: 7 | B8: ='STOCK ITEMS'!D52 -> N P 418 C4 TURTLE 3070F | C8: ="(Part #: "&'STOCK ITEMS'!M52&")" -> (Part #: N833P15) | D8: =IF('STOCK ITEMS'!B52>0,B8&" - "&C8,"-") -> - | E8: 2901000 | F8: =IF(D8="-",0,E8) -> 0 | G8: =F8+A8 -> 7 | H8: =RANK(G8,$G$2:$G$974,0) -> 967 | I8: =IF($D8="-",0,'STOCK ITEMS'!N52) -> 0 | J8: =IF($D8="-",0,'STOCK ITEMS'!O52) -> 0 | K8: =IF($D8="-",0,'STOCK ITEMS'!P52) -> 0 | L8: =IF($D8="-",0,'STOCK ITEMS'!B52) -> 0 | M8: =D8 -> - | N8: =IF(L8<1,0,J8/I8) -> 0
A9: 8 | B9: ='STOCK ITEMS'!D53 -> N P 418 MB 3070F | C9: ="(Part #: "&'STOCK ITEMS'!M53&")" -> (Part #: N833P2) | D9: =IF('STOCK ITEMS'!B53>0,B9&" - "&C9,"-") -> - | E9: 2898000 | F9: =IF(D9="-",0,E9) -> 0 | G9: =F9+A9 -> 8 | H9: =RANK(G9,$G$2:$G$974,0) -> 966 | I9: =IF($D9="-",0,'STOCK ITEMS'!N53) -> 0 | J9: =IF($D9="-",0,'STOCK ITEMS'!O53) -> 0 | K9: =IF($D9="-",0,'STOCK ITEMS'!P53) -> 0 | L9: =IF($D9="-",0,'STOCK ITEMS'!B53) -> 0 | M9: =D9 -> - | N9: =IF(L9<1,0,J9/I9) -> 0
A10: 9 | B10: ='STOCK ITEMS'!D54 -> N P 418 MBN 3070F | C10: ="(Part #: "&'STOCK ITEMS'!M54&")" -> (Part #: N833P3) | D10: =IF('STOCK ITEMS'!B54>0,B10&" - "&C10,"-") -> - | E10: 2895000 | F10: =IF(D10="-",0,E10) -> 0 | G10: =F10+A10 -> 9 | H10: =RANK(G10,$G$2:$G$974,0) -> 965 | I10: =IF($D10="-",0,'STOCK ITEMS'!N54) -> 0 | J10: =IF($D10="-",0,'STOCK ITEMS'!O54) -> 0 | K10: =IF($D10="-",0,'STOCK ITEMS'!P54) -> 0 | L10: =IF($D10="-",0,'STOCK ITEMS'!B54) -> 0 | M10: =D10 -> - | N10: =IF(L10<1,0,J10/I10) -> 0
A11: 10 | B11: ='STOCK ITEMS'!D55 -> N P 418 RP 3070F | C11: ="(Part #: "&'STOCK ITEMS'!M55&")" -> (Part #: N833P4) | D11: =IF('STOCK ITEMS'!B55>0,B11&" - "&C11,"-") -> - | E11: 2892000 | F11: =IF(D11="-",0,E11) -> 0 | G11: =F11+A11 -> 10 | H11: =RANK(G11,$G$2:$G$974,0) -> 964 | I11: =IF($D11="-",0,'STOCK ITEMS'!N55) -> 0 | J11: =IF($D11="-",0,'STOCK ITEMS'!O55) -> 0 | K11: =IF($D11="-",0,'STOCK ITEMS'!P55) -> 0 | L11: =IF($D11="-",0,'STOCK ITEMS'!B55) -> 0 | M11: =D11 -> - | N11: =IF(L11<1,0,J11/I11) -> 0
A12: 11 | B12: - | C12: - | D12: - | E12: 2889000 | F12: =IF(D12="-",0,E12) -> 0 | G12: =F12+A12 -> 11 | H12: =RANK(G12,$G$2:$G$974,0) -> 963 | I12: =IF($D12="-",0,'STOCK ITEMS'!N56) -> 0 | J12: =IF($D12="-",0,'STOCK ITEMS'!O56) -> 0 | K12: =IF($D12="-",0,'STOCK ITEMS'!P56) -> 0 | L12: =IF($D12="-",0,'STOCK ITEMS'!B56) -> 0 | M12: =D12 -> - | N12: =IF(L12<1,0,J12/I12) -> 0
A13: 12 | B13: - | C13: - | D13: - | E13: 2886000 | F13: =IF(D13="-",0,E13) -> 0 | G13: =F13+A13 -> 12 | H13: =RANK(G13,$G$2:$G$974,0) -> 962 | I13: =IF($D13="-",0,'STOCK ITEMS'!N57) -> 0 | J13: =IF($D13="-",0,'STOCK ITEMS'!O57) -> 0 | K13: =IF($D13="-",0,'STOCK ITEMS'!P57) -> 0 | L13: =IF($D13="-",0,'STOCK ITEMS'!B57) -> 0 | M13: =D13 -> - | N13: =IF(L13<1,0,J13/I13) -> 0
A14: 13 | B14: - | C14: - | D14: - | E14: 2883000 | F14: =IF(D14="-",0,E14) -> 0 | G14: =F14+A14 -> 13 | H14: =RANK(G14,$G$2:$G$974,0) -> 961 | I14: =IF($D14="-",0,'STOCK ITEMS'!N58) -> 0 | J14: =IF($D14="-",0,'STOCK ITEMS'!O58) -> 0 | K14: =IF($D14="-",0,'STOCK ITEMS'!P58) -> 0 | L14: =IF($D14="-",0,'STOCK ITEMS'!B58) -> 0 | M14: =D14 -> - | N14: =IF(L14<1,0,J14/I14) -> 0
A15: 14 | B15: ='STOCK ITEMS'!D59 -> N P Z418 C4 3068F T GALV | C15: ="(Part #: "&'STOCK ITEMS'!M59&")" -> (Part #: NZ807P1MEFT) | D15: =IF('STOCK ITEMS'!B59>0,B15&" - "&C15,"-") -> - | E15: 2880000 | F15: =IF(D15="-",0,E15) -> 0 | G15: =F15+A15 -> 14 | H15: =RANK(G15,$G$2:$G$974,0) -> 960 | I15: =IF($D15="-",0,'STOCK ITEMS'!N59) -> 0 | J15: =IF($D15="-",0,'STOCK ITEMS'!O59) -> 0 | K15: =IF($D15="-",0,'STOCK ITEMS'!P59) -> 0 | L15: =IF($D15="-",0,'STOCK ITEMS'!B59) -> 0 | M15: =D15 -> - | N15: =IF(L15<1,0,J15/I15) -> 0
A16: 15 | B16: ='STOCK ITEMS'!D60 -> N P Z418 C4 TURTLE 3068F T GALV | C16: ="(Part #: "&'STOCK ITEMS'!M60&")" -> (Part #: NZ807P15MEFT) | D16: =IF('STOCK ITEMS'!B60>0,B16&" - "&C16,"-") -> - | E16: 2877000 | F16: =IF(D16="-",0,E16) -> 0 | G16: =F16+A16 -> 15 | H16: =RANK(G16,$G$2:$G$974,0) -> 959 | I16: =IF($D16="-",0,'STOCK ITEMS'!N60) -> 0 | J16: =IF($D16="-",0,'STOCK ITEMS'!O60) -> 0 | K16: =IF($D16="-",0,'STOCK ITEMS'!P60) -> 0 | L16: =IF($D16="-",0,'STOCK ITEMS'!B60) -> 0 | M16: =D16 -> - | N16: =IF(L16<1,0,J16/I16) -> 0
A17: 16 | B17: ='STOCK ITEMS'!D61 -> N P Z418 MB 3068F T GALV | C17: ="(Part #: "&'STOCK ITEMS'!M61&")" -> (Part #: NZ807P2MEFT) | D17: =IF('STOCK ITEMS'!B61>0,B17&" - "&C17,"-") -> - | E17: 2874000 | F17: =IF(D17="-",0,E17) -> 0 | G17: =F17+A17 -> 16 | H17: =RANK(G17,$G$2:$G$974,0) -> 958 | I17: =IF($D17="-",0,'STOCK ITEMS'!N61) -> 0 | J17: =IF($D17="-",0,'STOCK ITEMS'!O61) -> 0 | K17: =IF($D17="-",0,'STOCK ITEMS'!P61) -> 0 | L17: =IF($D17="-",0,'STOCK ITEMS'!B61) -> 0 | M17: =D17 -> - | N17: =IF(L17<1,0,J17/I17) -> 0
A18: 17 | B18: ='STOCK ITEMS'!D62 -> N P Z418 MBN 3068F T GALV | C18: ="(Part #: "&'STOCK ITEMS'!M62&")" -> (Part #: NZ807P3MEFT) | D18: =IF('STOCK ITEMS'!B62>0,B18&" - "&C18,"-") -> - | E18: 2871000 | F18: =IF(D18="-",0,E18) -> 0 | G18: =F18+A18 -> 17 | H18: =RANK(G18,$G$2:$G$974,0) -> 957 | I18: =IF($D18="-",0,'STOCK ITEMS'!N62) -> 0 | J18: =IF($D18="-",0,'STOCK ITEMS'!O62) -> 0 | K18: =IF($D18="-",0,'STOCK ITEMS'!P62) -> 0 | L18: =IF($D18="-",0,'STOCK ITEMS'!B62) -> 0 | M18: =D18 -> - | N18: =IF(L18<1,0,J18/I18) -> 0
A19: 18 | B19: ='STOCK ITEMS'!D63 -> N P Z418 RP 3068F T GALV | C19: ="(Part #: "&'STOCK ITEMS'!M63&")" -> (Part #: NZ807P4MEFT) | D19: =IF('STOCK ITEMS'!B63>0,B19&" - "&C19,"-") -> - | E19: 2868000 | F19: =IF(D19="-",0,E19) -> 0 | G19: =F19+A19 -> 18 | H19: =RANK(G19,$G$2:$G$974,0) -> 956 | I19: =IF($D19="-",0,'STOCK ITEMS'!N63) -> 0 | J19: =IF($D19="-",0,'STOCK ITEMS'!O63) -> 0 | K19: =IF($D19="-",0,'STOCK ITEMS'!P63) -> 0 | L19: =IF($D19="-",0,'STOCK ITEMS'!B63) -> 0 | M19: =D19 -> - | N19: =IF(L19<1,0,J19/I19) -> 0
A20: 19 | B20: - | C20: - | D20: - | E20: 2865000 | F20: =IF(D20="-",0,E20) -> 0 | G20: =F20+A20 -> 19 | H20: =RANK(G20,$G$2:$G$974,0) -> 955 | I20: =IF($D20="-",0,'STOCK ITEMS'!N64) -> 0 | J20: =IF($D20="-",0,'STOCK ITEMS'!O64) -> 0 | K20: =IF($D20="-",0,'STOCK ITEMS'!P64) -> 0 | L20: =IF($D20="-",0,'STOCK ITEMS'!B64) -> 0 | M20: =D20 -> - | N20: =IF(L20<1,0,J20/I20) -> 0
A21: 20 | B21: - | C21: - | D21: - | E21: 2862000 | F21: =IF(D21="-",0,E21) -> 0 | G21: =F21+A21 -> 20 | H21: =RANK(G21,$G$2:$G$974,0) -> 954 | I21: =IF($D21="-",0,'STOCK ITEMS'!N65) -> 0 | J21: =IF($D21="-",0,'STOCK ITEMS'!O65) -> 0 | K21: =IF($D21="-",0,'STOCK ITEMS'!P65) -> 0 | L21: =IF($D21="-",0,'STOCK ITEMS'!B65) -> 0 | M21: =D21 -> - | N21: =IF(L21<1,0,J21/I21) -> 0
A22: 21 | B22: - | C22: - | D22: - | E22: 2859000 | F22: =IF(D22="-",0,E22) -> 0 | G22: =F22+A22 -> 21 | H22: =RANK(G22,$G$2:$G$974,0) -> 953 | I22: =IF($D22="-",0,'STOCK ITEMS'!N66) -> 0 | J22: =IF($D22="-",0,'STOCK ITEMS'!O66) -> 0 | K22: =IF($D22="-",0,'STOCK ITEMS'!P66) -> 0 | L22: =IF($D22="-",0,'STOCK ITEMS'!B66) -> 0 | M22: =D22 -> - | N22: =IF(L22<1,0,J22/I22) -> 0
A23: 22 | B23: ='STOCK ITEMS'!D67 -> N P Z418 C4 3070F T GALV | C23: ="(Part #: "&'STOCK ITEMS'!M67&")" -> (Part #: NZ833P1MEFT) | D23: =IF('STOCK ITEMS'!B67>0,B23&" - "&C23,"-") -> - | E23: 2856000 | F23: =IF(D23="-",0,E23) -> 0 | G23: =F23+A23 -> 22 | H23: =RANK(G23,$G$2:$G$974,0) -> 952 | I23: =IF($D23="-",0,'STOCK ITEMS'!N67) -> 0 | J23: =IF($D23="-",0,'STOCK ITEMS'!O67) -> 0 | K23: =IF($D23="-",0,'STOCK ITEMS'!P67) -> 0 | L23: =IF($D23="-",0,'STOCK ITEMS'!B67) -> 0 | M23: =D23 -> - | N23: =IF(L23<1,0,J23/I23) -> 0
A24: 23 | B24: ='STOCK ITEMS'!D68 -> N P Z418 C4 TURTLE 3070F T GALV | C24: ="(Part #: "&'STOCK ITEMS'!M68&")" -> (Part #: NZ833P15MEFT) | D24: =IF('STOCK ITEMS'!B68>0,B24&" - "&C24,"-") -> - | E24: 2853000 | F24: =IF(D24="-",0,E24) -> 0 | G24: =F24+A24 -> 23 | H24: =RANK(G24,$G$2:$G$974,0) -> 951 | I24: =IF($D24="-",0,'STOCK ITEMS'!N68) -> 0 | J24: =IF($D24="-",0,'STOCK ITEMS'!O68) -> 0 | K24: =IF($D24="-",0,'STOCK ITEMS'!P68) -> 0 | L24: =IF($D24="-",0,'STOCK ITEMS'!B68) -> 0 | M24: =D24 -> - | N24: =IF(L24<1,0,J24/I24) -> 0
A25: 24 | B25: ='STOCK ITEMS'!D69 -> N P Z418 MB 3070F T GALV | C25: ="(Part #: "&'STOCK ITEMS'!M69&")" -> (Part #: NZ833P2MEFT) | D25: =IF('STOCK ITEMS'!B69>0,B25&" - "&C25,"-") -> - | E25: 2850000 | F25: =IF(D25="-",0,E25) -> 0 | G25: =F25+A25 -> 24 | H25: =RANK(G25,$G$2:$G$974,0) -> 950 | I25: =IF($D25="-",0,'STOCK ITEMS'!N69) -> 0 | J25: =IF($D25="-",0,'STOCK ITEMS'!O69) -> 0 | K25: =IF($D25="-",0,'STOCK ITEMS'!P69) -> 0 | L25: =IF($D25="-",0,'STOCK ITEMS'!B69) -> 0 | M25: =D25 -> - | N25: =IF(L25<1,0,J25/I25) -> 0
A26: 25 | B26: ='STOCK ITEMS'!D70 -> N P Z418 MBN 3070F T GALV | C26: ="(Part #: "&'STOCK ITEMS'!M70&")" -> (Part #: NZ833P3MEFT) | D26: =IF('STOCK ITEMS'!B70>0,B26&" - "&C26,"-") -> - | E26: 2847000 | F26: =IF(D26="-",0,E26) -> 0 | G26: =F26+A26 -> 25 | H26: =RANK(G26,$G$2:$G$974,0) -> 949 | I26: =IF($D26="-",0,'STOCK ITEMS'!N70) -> 0 | J26: =IF($D26="-",0,'STOCK ITEMS'!O70) -> 0 | K26: =IF($D26="-",0,'STOCK ITEMS'!P70) -> 0 | L26: =IF($D26="-",0,'STOCK ITEMS'!B70) -> 0 | M26: =D26 -> - | N26: =IF(L26<1,0,J26/I26) -> 0
A27: 26 | B27: ='STOCK ITEMS'!D71 -> N P Z418 RP 3070F T GALV | C27: ="(Part #: "&'STOCK ITEMS'!M71&")" -> (Part #: NZ833P4MEFT) | D27: =IF('STOCK ITEMS'!B71>0,B27&" - "&C27,"-") -> - | E27: 2844000 | F27: =IF(D27="-",0,E27) -> 0 | G27: =F27+A27 -> 26 | H27: =RANK(G27,$G$2:$G$974,0) -> 948 | I27: =IF($D27="-",0,'STOCK ITEMS'!N71) -> 0 | J27: =IF($D27="-",0,'STOCK ITEMS'!O71) -> 0 | K27: =IF($D27="-",0,'STOCK ITEMS'!P71) -> 0 | L27: =IF($D27="-",0,'STOCK ITEMS'!B71) -> 0 | M27: =D27 -> - | N27: =IF(L27<1,0,J27/I27) -> 0
A28: 27 | B28: - | C28: - | D28: - | E28: 2841000 | F28: =IF(D28="-",0,E28) -> 0 | G28: =F28+A28 -> 27 | H28: =RANK(G28,$G$2:$G$974,0) -> 947 | I28: =IF($D28="-",0,'STOCK ITEMS'!N72) -> 0 | J28: =IF($D28="-",0,'STOCK ITEMS'!O72) -> 0 | K28: =IF($D28="-",0,'STOCK ITEMS'!P72) -> 0 | L28: =IF($D28="-",0,'STOCK ITEMS'!B72) -> 0 | M28: =D28 -> - | N28: =IF(L28<1,0,J28/I28) -> 0
A29: 28 | B29: - | C29: - | D29: - | E29: 2838000 | F29: =IF(D29="-",0,E29) -> 0 | G29: =F29+A29 -> 28 | H29: =RANK(G29,$G$2:$G$974,0) -> 946 | I29: =IF($D29="-",0,'STOCK ITEMS'!N73) -> 0 | J29: =IF($D29="-",0,'STOCK ITEMS'!O73) -> 0 | K29: =IF($D29="-",0,'STOCK ITEMS'!P73) -> 0 | L29: =IF($D29="-",0,'STOCK ITEMS'!B73) -> 0 | M29: =D29 -> - | N29: =IF(L29<1,0,J29/I29) -> 0
A30: 29 | B30: - | C30: - | D30: - | E30: 2835000 | F30: =IF(D30="-",0,E30) -> 0 | G30: =F30+A30 -> 29 | H30: =RANK(G30,$G$2:$G$974,0) -> 945 | I30: =IF($D30="-",0,'STOCK ITEMS'!N74) -> 0 | J30: =IF($D30="-",0,'STOCK ITEMS'!O74) -> 0 | K30: =IF($D30="-",0,'STOCK ITEMS'!P74) -> 0 | L30: =IF($D30="-",0,'STOCK ITEMS'!B74) -> 0 | M30: =D30 -> - | N30: =IF(L30<1,0,J30/I30) -> 0
A31: 30 | B31: ='STOCK ITEMS'!D75 -> N P Z418 C4 3068F T GALV STEELCRAFT | C31: ="(Part #: "&'STOCK ITEMS'!M75&")" -> (Part #: NZ807P1SCFT) | D31: =IF('STOCK ITEMS'!B75>0,B31&" - "&C31,"-") -> - | E31: 2832000 | F31: =IF(D31="-",0,E31) -> 0 | G31: =F31+A31 -> 30 | H31: =RANK(G31,$G$2:$G$974,0) -> 944 | I31: =IF($D31="-",0,'STOCK ITEMS'!N75) -> 0 | J31: =IF($D31="-",0,'STOCK ITEMS'!O75) -> 0 | K31: =IF($D31="-",0,'STOCK ITEMS'!P75) -> 0 | L31: =IF($D31="-",0,'STOCK ITEMS'!B75) -> 0 | M31: =D31 -> - | N31: =IF(L31<1,0,J31/I31) -> 0
A32: 31 | B32: - | C32: - | D32: - | E32: 2829000 | F32: =IF(D32="-",0,E32) -> 0 | G32: =F32+A32 -> 31 | H32: =RANK(G32,$G$2:$G$974,0) -> 943 | I32: =IF($D32="-",0,'STOCK ITEMS'!N76) -> 0 | J32: =IF($D32="-",0,'STOCK ITEMS'!O76) -> 0 | K32: =IF($D32="-",0,'STOCK ITEMS'!P76) -> 0 | L32: =IF($D32="-",0,'STOCK ITEMS'!B76) -> 0 | M32: =D32 -> - | N32: =IF(L32<1,0,J32/I32) -> 0
A33: 32 | B33: - | C33: - | D33: - | E33: 2826000 | F33: =IF(D33="-",0,E33) -> 0 | G33: =F33+A33 -> 32 | H33: =RANK(G33,$G$2:$G$974,0) -> 942 | I33: =IF($D33="-",0,'STOCK ITEMS'!N77) -> 0 | J33: =IF($D33="-",0,'STOCK ITEMS'!O77) -> 0 | K33: =IF($D33="-",0,'STOCK ITEMS'!P77) -> 0 | L33: =IF($D33="-",0,'STOCK ITEMS'!B77) -> 0 | M33: =D33 -> - | N33: =IF(L33<1,0,J33/I33) -> 0
A34: 33 | B34: - | C34: - | D34: - | E34: 2823000 | F34: =IF(D34="-",0,E34) -> 0 | G34: =F34+A34 -> 33 | H34: =RANK(G34,$G$2:$G$974,0) -> 941 | I34: =IF($D34="-",0,'STOCK ITEMS'!N78) -> 0 | J34: =IF($D34="-",0,'STOCK ITEMS'!O78) -> 0 | K34: =IF($D34="-",0,'STOCK ITEMS'!P78) -> 0 | L34: =IF($D34="-",0,'STOCK ITEMS'!B78) -> 0 | M34: =D34 -> - | N34: =IF(L34<1,0,J34/I34) -> 0
A35: 34 | B35: ='STOCK ITEMS'!D79 -> N P Z418 C4 3070F T GALV STEELCRAFT | C35: ="(Part #: "&'STOCK ITEMS'!M79&")" -> (Part #: NZ833P1SCFT) | D35: =IF('STOCK ITEMS'!B79>0,B35&" - "&C35,"-") -> - | E35: 2820000 | F35: =IF(D35="-",0,E35) -> 0 | G35: =F35+A35 -> 34 | H35: =RANK(G35,$G$2:$G$974,0) -> 940 | I35: =IF($D35="-",0,'STOCK ITEMS'!N79) -> 0 | J35: =IF($D35="-",0,'STOCK ITEMS'!O79) -> 0 | K35: =IF($D35="-",0,'STOCK ITEMS'!P79) -> 0 | L35: =IF($D35="-",0,'STOCK ITEMS'!B79) -> 0 | M35: =D35 -> - | N35: =IF(L35<1,0,J35/I35) -> 0
A36: 35 | B36: ='STOCK ITEMS'!D80 -> N P Z418 MB 3070F T GALV STEELCRAFT | C36: ="(Part #: "&'STOCK ITEMS'!M80&")" -> (Part #: NZ833P2SCFT) | D36: =IF('STOCK ITEMS'!B80>0,B36&" - "&C36,"-") -> - | E36: 2817000 | F36: =IF(D36="-",0,E36) -> 0 | G36: =F36+A36 -> 35 | H36: =RANK(G36,$G$2:$G$974,0) -> 939 | I36: =IF($D36="-",0,'STOCK ITEMS'!N80) -> 0 | J36: =IF($D36="-",0,'STOCK ITEMS'!O80) -> 0 | K36: =IF($D36="-",0,'STOCK ITEMS'!P80) -> 0 | L36: =IF($D36="-",0,'STOCK ITEMS'!B80) -> 0 | M36: =D36 -> - | N36: =IF(L36<1,0,J36/I36) -> 0
A37: 36 | B37: ='STOCK ITEMS'!D81 -> N P Z418 RP 3070F T GALV STEELCRAFT | C37: ="(Part #: "&'STOCK ITEMS'!M81&")" -> (Part #: NZ833P4SCFT) | D37: =IF('STOCK ITEMS'!B81>0,B37&" - "&C37,"-") -> - | E37: 2814000 | F37: =IF(D37="-",0,E37) -> 0 | G37: =F37+A37 -> 36 | H37: =RANK(G37,$G$2:$G$974,0) -> 938 | I37: =IF($D37="-",0,'STOCK ITEMS'!N81) -> 0 | J37: =IF($D37="-",0,'STOCK ITEMS'!O81) -> 0 | K37: =IF($D37="-",0,'STOCK ITEMS'!P81) -> 0 | L37: =IF($D37="-",0,'STOCK ITEMS'!B81) -> 0 | M37: =D37 -> - | N37: =IF(L37<1,0,J37/I37) -> 0
A38: 37 | B38: ='STOCK ITEMS'!D82 -> N P Z418 C4 3070F T GALV CECO | C38: ="(Part #: "&'STOCK ITEMS'!M82&")" -> (Part #: NZ833P1CEFT) | D38: =IF('STOCK ITEMS'!B82>0,B38&" - "&C38,"-") -> - | E38: 2811000 | F38: =IF(D38="-",0,E38) -> 0 | G38: =F38+A38 -> 37 | H38: =RANK(G38,$G$2:$G$974,0) -> 937 | I38: =IF($D38="-",0,'STOCK ITEMS'!N82) -> 0 | J38: =IF($D38="-",0,'STOCK ITEMS'!O82) -> 0 | K38: =IF($D38="-",0,'STOCK ITEMS'!P82) -> 0 | L38: =IF($D38="-",0,'STOCK ITEMS'!B82) -> 0 | M38: =D38 -> - | N38: =IF(L38<1,0,J38/I38) -> 0
A39: 38 | B39: ='STOCK ITEMS'!D83 -> N P Z418 C4 3070F T GALV REPUBLIC | C39: ="(Part #: "&'STOCK ITEMS'!M83&")" -> (Part #: NZ833P1REFT) | D39: =IF('STOCK ITEMS'!B83>0,B39&" - "&C39,"-") -> - | E39: 2808000 | F39: =IF(D39="-",0,E39) -> 0 | G39: =F39+A39 -> 38 | H39: =RANK(G39,$G$2:$G$974,0) -> 936 | I39: =IF($D39="-",0,'STOCK ITEMS'!N83) -> 0 | J39: =IF($D39="-",0,'STOCK ITEMS'!O83) -> 0 | K39: =IF($D39="-",0,'STOCK ITEMS'!P83) -> 0 | L39: =IF($D39="-",0,'STOCK ITEMS'!B83) -> 0 | M39: =D39 -> - | N39: =IF(L39<1,0,J39/I39) -> 0
A40: 39 | B40: - | C40: - | D40: - | E40: 2805000 | F40: =IF(D40="-",0,E40) -> 0 | G40: =F40+A40 -> 39 | H40: =RANK(G40,$G$2:$G$974,0) -> 935 | I40: =IF($D40="-",0,'STOCK ITEMS'!N84) -> 0 | J40: =IF($D40="-",0,'STOCK ITEMS'!O84) -> 0 | K40: =IF($D40="-",0,'STOCK ITEMS'!P84) -> 0 | L40: =IF($D40="-",0,'STOCK ITEMS'!B84) -> 0 | M40: =D40 -> - | N40: =IF(L40<1,0,J40/I40) -> 0
...
